BEGIN:VCALENDAR
VERSION:2.0
PRODID:-//ChamberMaster//Event Calendar 2.0//EN
METHOD:PUBLISH
X-PUBLISHED-TTL:P3D
REFRESH-INTERVAL:P3D
CALSCALE:GREGORIAN
BEGIN:VEVENT
DTSTART:20190621T230000Z
DTEND:20190622T020000Z
X-MICROSOFT-CDO-ALLDAYEVENT:FALSE
SUMMARY:Retro Summer Blockbuster on the Big Screen
DESCRIPTION:The Knox County Memorial Theater presents Retro Summer Blockbuster on the Big Screen. On Friday\, June 21 at 7pm they will be showing the 1975 classic\, Jaws.  Tickets can be bought at the door\, and concessions will be available.
X-ALT-DESC;FMTTYPE=text/html:<span style="font-family: Georgia\, &quot\;Times New Roman&quot\;\, Times\, serif\; font-size: 10.6667px\; background-color: rgb(255\, 255\, 255)\;">The Knox County Memorial Theater presents Retro Summer Blockbuster on the Big Screen. On Friday\, June 21 at 7pm they will be showing the 1975 classic\, Jaws.&nbsp\; Tickets can be bought at the door\, and concessions will be available.</span>
LOCATION:Knox County Memorial Building\, 112 East High Street\, Mount Vernon
UID:e.2893.4305
SEQUENCE:3
DTSTAMP:20260421T103822Z
URL:http://knoxchamber.smartcms.site/events/details/retro-summer-blockbuster-on-the-big-screen-4305
END:VEVENT

END:VCALENDAR
