BEGIN:VCALENDAR
VERSION:2.0
PRODID:-//ChamberMaster//Event Calendar 2.0//EN
METHOD:PUBLISH
X-PUBLISHED-TTL:P3D
REFRESH-INTERVAL:P3D
CALSCALE:GREGORIAN
BEGIN:VEVENT
DTSTART:20181127T230000Z
DTEND:20181128T010000Z
X-MICROSOFT-CDO-ALLDAYEVENT:FALSE
SUMMARY:Resilience: The Biology of Stress & The Science of Hope
DESCRIPTION:New Directions invites you to view this film that focuses on the science of Adverse Childhood Experiences and the rise of the movement of how to treat and prevent stress.  After the one hour film\, be part of the dialogue to help those who are struggling with stress and childhood trauma in the community.\n\n\n\nClick Here to view the flyer
X-ALT-DESC;FMTTYPE=text/html:<em><span style="color: rgb(178\, 34\, 34)\;">&nbsp\;New Directions </span></em>invites you to view this film that focuses on the science of Adverse Childhood Experiences and the rise of the movement of how to treat and prevent stress.&nbsp\; After the one hour film\, be part of the dialogue to help those who are struggling with stress and childhood trauma in the community.<br />\n<br />\n<a href="https://chambermaster.blob.core.windows.net/userfiles/UserFiles/chambers/2893/File/ResilienceFilm_PromoflyerCburgfinal.pdf">Click Here</a> to view the flyer<br />\n&nbsp\;
LOCATION:Centerburg High School Auditorium 3782 Columbus Road\, Centerburg
UID:e.2893.3847
SEQUENCE:3
DTSTAMP:20260421T233700Z
URL:http://knoxchamber.smartcms.site/events/details/resilience-the-biology-of-stress-the-science-of-hope-3847
END:VEVENT

END:VCALENDAR
