BEGIN:VCALENDAR
VERSION:2.0
PRODID:-//ChamberMaster//Event Calendar 2.0//EN
METHOD:PUBLISH
X-PUBLISHED-TTL:P3D
REFRESH-INTERVAL:P3D
CALSCALE:GREGORIAN
BEGIN:VEVENT
DTSTART:20190724T213000Z
DTEND:20190725T013000Z
X-MICROSOFT-CDO-ALLDAYEVENT:FALSE
SUMMARY:Refuse To Be A Victim seminar
DESCRIPTION:The single most important step toward ensuring your own safety is having a personal safety strategy in place before you need it. NRA's Refuse To Be A Victim  Program teaches the tips and techniques you need to be alerted to dangerous situations and to avoid becoming a victim. Seminar topics include: \n\n~ Automobile Security\n\n~ Home Security\n\n~ Travel Security\n\n~ Telephone Security\n\n~ Physical Security\n\n~ Personal Protection Devices\n\n~ Cyber Fraud & Internet Security\n\n~ Identity Theft Security\n\n\n\nEVENT DETAILS:\n\n\n\nDATE: Thursday\, June 24\, 2019\n\nTIME - 5:30 -9:30 pm\n\nLOCATION: Chamber of Commerce\, Mount Vernon\n\n\n\nSEMINAR FEE: no cost seminar sponsored and funded by a grant from  Women United open to all local ladies....\n\n~ Snacks/Drinks \n\n~ An open mind and willingness to learn!\n\n\n\nFor More information about the RTBAV Program\, Promotional Video and FAQ see the NRA official website:\n\nhttps://rtbav.nra.org/\n\n\n\nQUESTIONS ??? Please contact Central Ohio Safety Solutions LLC at info@ohsafetysolutions.com
X-ALT-DESC;FMTTYPE=text/html:<span style="text-align: left\; color: rgb(29\, 33\, 41)\; text-transform: none\; text-indent: 0px\; letter-spacing: normal\; font-family: inherit\; font-size: 14px\; font-style: normal\; font-variant: normal\; font-weight: 400\; text-decoration: none\; word-spacing: 0px\; float: none\; display: inline !important\; white-space: pre-wrap\; orphans: 2\; background-color: rgb(255\, 255\, 255)\; -webkit-text-stroke-width: 0px\;">The single most important step toward ensuring your own safety is having a personal safety strategy in place before you need it. NRA&rsquo\;s Refuse To Be A Victim&reg\; Program teaches the tips and techniques you need to be alerted to dangerous situations and to avoid becoming a victim. Seminar topics include: </span><br style="text-align: left\; color: rgb(29\, 33\, 41)\; text-transform: none\; text-indent: 0px\; letter-spacing: normal\; font-family: Helvetica\,Arial\,sans-serif\; font-size: 14px\; font-style: normal\; font-variant: normal\; font-weight: 400\; text-decoration: none\; word-spacing: 0px\; white-space: pre-wrap\; orphans: 2\; -webkit-text-stroke-width: 0px\;" />\n<span style="text-align: left\; color: rgb(29\, 33\, 41)\; text-transform: none\; text-indent: 0px\; letter-spacing: normal\; font-family: inherit\; font-size: 14px\; font-style: normal\; font-variant: normal\; font-weight: 400\; text-decoration: none\; word-spacing: 0px\; float: none\; display: inline !important\; white-space: pre-wrap\; orphans: 2\; background-color: rgb(255\, 255\, 255)\; -webkit-text-stroke-width: 0px\;">~ Automobile Security</span><br style="text-align: left\; color: rgb(29\, 33\, 41)\; text-transform: none\; text-indent: 0px\; letter-spacing: normal\; font-family: Helvetica\,Arial\,sans-serif\; font-size: 14px\; font-style: normal\; font-variant: normal\; font-weight: 400\; text-decoration: none\; word-spacing: 0px\; white-space: pre-wrap\; orphans: 2\; -webkit-text-stroke-width: 0px\;" />\n<span style="text-align: left\; color: rgb(29\, 33\, 41)\; text-transform: none\; text-indent: 0px\; letter-spacing: normal\; font-family: inherit\; font-size: 14px\; font-style: normal\; font-variant: normal\; font-weight: 400\; text-decoration: none\; word-spacing: 0px\; float: none\; display: inline !important\; white-space: pre-wrap\; orphans: 2\; background-color: rgb(255\, 255\, 255)\; -webkit-text-stroke-width: 0px\;">~ Home Security</span><br style="text-align: left\; color: rgb(29\, 33\, 41)\; text-transform: none\; text-indent: 0px\; letter-spacing: normal\; font-family: Helvetica\,Arial\,sans-serif\; font-size: 14px\; font-style: normal\; font-variant: normal\; font-weight: 400\; text-decoration: none\; word-spacing: 0px\; white-space: pre-wrap\; orphans: 2\; -webkit-text-stroke-width: 0px\;" />\n<span style="text-align: left\; color: rgb(29\, 33\, 41)\; text-transform: none\; text-indent: 0px\; letter-spacing: normal\; font-family: inherit\; font-size: 14px\; font-style: normal\; font-variant: normal\; font-weight: 400\; text-decoration: none\; word-spacing: 0px\; float: none\; display: inline !important\; white-space: pre-wrap\; orphans: 2\; background-color: rgb(255\, 255\, 255)\; -webkit-text-stroke-width: 0px\;">~ Travel Security</span><br style="text-align: left\; color: rgb(29\, 33\, 41)\; text-transform: none\; text-indent: 0px\; letter-spacing: normal\; font-family: Helvetica\,Arial\,sans-serif\; font-size: 14px\; font-style: normal\; font-variant: normal\; font-weight: 400\; text-decoration: none\; word-spacing: 0px\; white-space: pre-wrap\; orphans: 2\; -webkit-text-stroke-width: 0px\;" />\n<span style="text-align: left\; color: rgb(29\, 33\, 41)\; text-transform: none\; text-indent: 0px\; letter-spacing: normal\; font-family: inherit\; font-size: 14px\; font-style: normal\; font-variant: normal\; font-weight: 400\; text-decoration: none\; word-spacing: 0px\; float: none\; display: inline !important\; white-space: pre-wrap\; orphans: 2\; background-color: rgb(255\, 255\, 255)\; -webkit-text-stroke-width: 0px\;">~ Telephone Security</span><br style="text-align: left\; color: rgb(29\, 33\, 41)\; text-transform: none\; text-indent: 0px\; letter-spacing: normal\; font-family: Helvetica\,Arial\,sans-serif\; font-size: 14px\; font-style: normal\; font-variant: normal\; font-weight: 400\; text-decoration: none\; word-spacing: 0px\; white-space: pre-wrap\; orphans: 2\; -webkit-text-stroke-width: 0px\;" />\n<span style="text-align: left\; color: rgb(29\, 33\, 41)\; text-transform: none\; text-indent: 0px\; letter-spacing: normal\; font-family: inherit\; font-size: 14px\; font-style: normal\; font-variant: normal\; font-weight: 400\; text-decoration: none\; word-spacing: 0px\; float: none\; display: inline !important\; white-space: pre-wrap\; orphans: 2\; background-color: rgb(255\, 255\, 255)\; -webkit-text-stroke-width: 0px\;">~ Physical Security</span><br style="text-align: left\; color: rgb(29\, 33\, 41)\; text-transform: none\; text-indent: 0px\; letter-spacing: normal\; font-family: Helvetica\,Arial\,sans-serif\; font-size: 14px\; font-style: normal\; font-variant: normal\; font-weight: 400\; text-decoration: none\; word-spacing: 0px\; white-space: pre-wrap\; orphans: 2\; -webkit-text-stroke-width: 0px\;" />\n<span style="text-align: left\; color: rgb(29\, 33\, 41)\; text-transform: none\; text-indent: 0px\; letter-spacing: normal\; font-family: inherit\; font-size: 14px\; font-style: normal\; font-variant: normal\; font-weight: 400\; text-decoration: none\; word-spacing: 0px\; float: none\; display: inline !important\; white-space: pre-wrap\; orphans: 2\; background-color: rgb(255\, 255\, 255)\; -webkit-text-stroke-width: 0px\;">~ Personal Protection Devices</span><br style="text-align: left\; color: rgb(29\, 33\, 41)\; text-transform: none\; text-indent: 0px\; letter-spacing: normal\; font-family: Helvetica\,Arial\,sans-serif\; font-size: 14px\; font-style: normal\; font-variant: normal\; font-weight: 400\; text-decoration: none\; word-spacing: 0px\; white-space: pre-wrap\; orphans: 2\; -webkit-text-stroke-width: 0px\;" />\n<span style="text-align: left\; color: rgb(29\, 33\, 41)\; text-transform: none\; text-indent: 0px\; letter-spacing: normal\; font-family: inherit\; font-size: 14px\; font-style: normal\; font-variant: normal\; font-weight: 400\; text-decoration: none\; word-spacing: 0px\; float: none\; display: inline !important\; white-space: pre-wrap\; orphans: 2\; background-color: rgb(255\, 255\, 255)\; -webkit-text-stroke-width: 0px\;">~ Cyber Fraud &amp\; Internet Security</span><br style="text-align: left\; color: rgb(29\, 33\, 41)\; text-transform: none\; text-indent: 0px\; letter-spacing: normal\; font-family: Helvetica\,Arial\,sans-serif\; font-size: 14px\; font-style: normal\; font-variant: normal\; font-weight: 400\; text-decoration: none\; word-spacing: 0px\; white-space: pre-wrap\; orphans: 2\; -webkit-text-stroke-width: 0px\;" />\n<span style="text-align: left\; color: rgb(29\, 33\, 41)\; text-transform: none\; text-indent: 0px\; letter-spacing: normal\; font-family: inherit\; font-size: 14px\; font-style: normal\; font-variant: normal\; font-weight: 400\; text-decoration: none\; word-spacing: 0px\; float: none\; display: inline !important\; white-space: pre-wrap\; orphans: 2\; background-color: rgb(255\, 255\, 255)\; -webkit-text-stroke-width: 0px\;">~ Identity Theft Security</span><br style="text-align: left\; color: rgb(29\, 33\, 41)\; text-transform: none\; text-indent: 0px\; letter-spacing: normal\; font-family: Helvetica\,Arial\,sans-serif\; font-size: 14px\; font-style: normal\; font-variant: normal\; font-weight: 400\; text-decoration: none\; word-spacing: 0px\; white-space: pre-wrap\; orphans: 2\; -webkit-text-stroke-width: 0px\;" />\n<br style="text-align: left\; color: rgb(29\, 33\, 41)\; text-transform: none\; text-indent: 0px\; letter-spacing: normal\; font-family: Helvetica\,Arial\,sans-serif\; font-size: 14px\; font-style: normal\; font-variant: normal\; font-weight: 400\; text-decoration: none\; word-spacing: 0px\; white-space: pre-wrap\; orphans: 2\; -webkit-text-stroke-width: 0px\;" />\n<span style="text-align: left\; color: rgb(29\, 33\, 41)\; text-transform: none\; text-indent: 0px\; letter-spacing: normal\; font-family: inherit\; font-size: 14px\; font-style: normal\; font-variant: normal\; font-weight: 400\; text-decoration: none\; word-spacing: 0px\; float: none\; display: inline !important\; white-space: pre-wrap\; orphans: 2\; background-color: rgb(255\, 255\, 255)\; -webkit-text-stroke-width: 0px\;">EVENT DETAILS:</span><br style="text-align: left\; color: rgb(29\, 33\, 41)\; text-transform: none\; text-indent: 0px\; letter-spacing: normal\; font-family: Helvetica\,Arial\,sans-serif\; font-size: 14px\; font-style: normal\; font-variant: normal\; font-weight: 400\; text-decoration: none\; word-spacing: 0px\; white-space: pre-wrap\; orphans: 2\; -webkit-text-stroke-width: 0px\;" />\n<br style="text-align: left\; color: rgb(29\, 33\, 41)\; text-transform: none\; text-indent: 0px\; letter-spacing: normal\; font-family: Helvetica\,Arial\,sans-serif\; font-size: 14px\; font-style: normal\; font-variant: normal\; font-weight: 400\; text-decoration: none\; word-spacing: 0px\; white-space: pre-wrap\; orphans: 2\; -webkit-text-stroke-width: 0px\;" />\n<span style="text-align: left\; color: rgb(29\, 33\, 41)\; text-transform: none\; text-indent: 0px\; letter-spacing: normal\; font-family: inherit\; font-size: 14px\; font-style: normal\; font-variant: normal\; font-weight: 400\; text-decoration: none\; word-spacing: 0px\; float: none\; display: inline !important\; white-space: pre-wrap\; orphans: 2\; background-color: rgb(255\, 255\, 255)\; -webkit-text-stroke-width: 0px\;">DATE: Thursday\, June 24\, 2019</span><br style="text-align: left\; color: rgb(29\, 33\, 41)\; text-transform: none\; text-indent: 0px\; letter-spacing: normal\; font-family: Helvetica\,Arial\,sans-serif\; font-size: 14px\; font-style: normal\; font-variant: normal\; font-weight: 400\; text-decoration: none\; word-spacing: 0px\; white-space: pre-wrap\; orphans: 2\; -webkit-text-stroke-width: 0px\;" />\n<span style="text-align: left\; color: rgb(29\, 33\, 41)\; text-transform: none\; text-indent: 0px\; letter-spacing: normal\; font-family: inherit\; font-size: 14px\; font-style: normal\; font-variant: normal\; font-weight: 400\; text-decoration: none\; word-spacing: 0px\; float: none\; display: inline !important\; white-space: pre-wrap\; orphans: 2\; background-color: rgb(255\, 255\, 255)\; -webkit-text-stroke-width: 0px\;">TIME - 5:30 -9:30 pm</span><br style="text-align: left\; color: rgb(29\, 33\, 41)\; text-transform: none\; text-indent: 0px\; letter-spacing: normal\; font-family: Helvetica\,Arial\,sans-serif\; font-size: 14px\; font-style: normal\; font-variant: normal\; font-weight: 400\; text-decoration: none\; word-spacing: 0px\; white-space: pre-wrap\; orphans: 2\; -webkit-text-stroke-width: 0px\;" />\n<span style="text-align: left\; color: rgb(29\, 33\, 41)\; text-transform: none\; text-indent: 0px\; letter-spacing: normal\; font-family: inherit\; font-size: 14px\; font-style: normal\; font-variant: normal\; font-weight: 400\; text-decoration: none\; word-spacing: 0px\; float: none\; display: inline !important\; white-space: pre-wrap\; orphans: 2\; background-color: rgb(255\, 255\, 255)\; -webkit-text-stroke-width: 0px\;">LOCATION: Chamber of Commerce\, Mount Vernon</span><br style="text-align: left\; color: rgb(29\, 33\, 41)\; text-transform: none\; text-indent: 0px\; letter-spacing: normal\; font-family: Helvetica\,Arial\,sans-serif\; font-size: 14px\; font-style: normal\; font-variant: normal\; font-weight: 400\; text-decoration: none\; word-spacing: 0px\; white-space: pre-wrap\; orphans: 2\; -webkit-text-stroke-width: 0px\;" />\n<br style="text-align: left\; color: rgb(29\, 33\, 41)\; text-transform: none\; text-indent: 0px\; letter-spacing: normal\; font-family: Helvetica\,Arial\,sans-serif\; font-size: 14px\; font-style: normal\; font-variant: normal\; font-weight: 400\; text-decoration: none\; word-spacing: 0px\; white-space: pre-wrap\; orphans: 2\; -webkit-text-stroke-width: 0px\;" />\n<span style="text-align: left\; color: rgb(29\, 33\, 41)\; text-transform: none\; text-indent: 0px\; letter-spacing: normal\; font-family: inherit\; font-size: 14px\; font-style: normal\; font-variant: normal\; font-weight: 400\; text-decoration: none\; word-spacing: 0px\; float: none\; display: inline !important\; white-space: pre-wrap\; orphans: 2\; background-color: rgb(255\, 255\, 255)\; -webkit-text-stroke-width: 0px\;">SEMINAR FEE: no cost seminar sponsored and funded by a grant from&nbsp\; Women United open to all local ladies....</span><br style="text-align: left\; color: rgb(29\, 33\, 41)\; text-transform: none\; text-indent: 0px\; letter-spacing: normal\; font-family: Helvetica\,Arial\,sans-serif\; font-size: 14px\; font-style: normal\; font-variant: normal\; font-weight: 400\; text-decoration: none\; word-spacing: 0px\; white-space: pre-wrap\; orphans: 2\; -webkit-text-stroke-width: 0px\;" />\n<span style="text-align: left\; color: rgb(29\, 33\, 41)\; text-transform: none\; text-indent: 0px\; letter-spacing: normal\; font-family: inherit\; font-size: 14px\; font-style: normal\; font-variant: normal\; font-weight: 400\; text-decoration: none\; word-spacing: 0px\; float: none\; display: inline !important\; white-space: pre-wrap\; orphans: 2\; background-color: rgb(255\, 255\, 255)\; -webkit-text-stroke-width: 0px\;">~ Snacks/Drinks </span><br style="text-align: left\; color: rgb(29\, 33\, 41)\; text-transform: none\; text-indent: 0px\; letter-spacing: normal\; font-family: Helvetica\,Arial\,sans-serif\; font-size: 14px\; font-style: normal\; font-variant: normal\; font-weight: 400\; text-decoration: none\; word-spacing: 0px\; white-space: pre-wrap\; orphans: 2\; -webkit-text-stroke-width: 0px\;" />\n<span style="text-align: left\; color: rgb(29\, 33\, 41)\; text-transform: none\; text-indent: 0px\; letter-spacing: normal\; font-family: inherit\; font-size: 14px\; font-style: normal\; font-variant: normal\; font-weight: 400\; text-decoration: none\; word-spacing: 0px\; float: none\; display: inline !important\; white-space: pre-wrap\; orphans: 2\; background-color: rgb(255\, 255\, 255)\; -webkit-text-stroke-width: 0px\;">~ An open mind and willingness to learn!</span><br style="text-align: left\; color: rgb(29\, 33\, 41)\; text-transform: none\; text-indent: 0px\; letter-spacing: normal\; font-family: Helvetica\,Arial\,sans-serif\; font-size: 14px\; font-style: normal\; font-variant: normal\; font-weight: 400\; text-decoration: none\; word-spacing: 0px\; white-space: pre-wrap\; orphans: 2\; -webkit-text-stroke-width: 0px\;" />\n<br style="text-align: left\; color: rgb(29\, 33\, 41)\; text-transform: none\; text-indent: 0px\; letter-spacing: normal\; font-family: Helvetica\,Arial\,sans-serif\; font-size: 14px\; font-style: normal\; font-variant: normal\; font-weight: 400\; text-decoration: none\; word-spacing: 0px\; white-space: pre-wrap\; orphans: 2\; -webkit-text-stroke-width: 0px\;" />\n<span style="text-align: left\; color: rgb(29\, 33\, 41)\; text-transform: none\; text-indent: 0px\; letter-spacing: normal\; font-family: inherit\; font-size: 14px\; font-style: normal\; font-variant: normal\; font-weight: 400\; text-decoration: none\; word-spacing: 0px\; float: none\; display: inline !important\; white-space: pre-wrap\; orphans: 2\; background-color: rgb(255\, 255\, 255)\; -webkit-text-stroke-width: 0px\;">For More information about the RTBAV Program\, Promotional Video and FAQ see the NRA official website:</span><br style="text-align: left\; color: rgb(29\, 33\, 41)\; text-transform: none\; text-indent: 0px\; letter-spacing: normal\; font-family: Helvetica\,Arial\,sans-serif\; font-size: 14px\; font-style: normal\; font-variant: normal\; font-weight: 400\; text-decoration: none\; word-spacing: 0px\; white-space: pre-wrap\; orphans: 2\; -webkit-text-stroke-width: 0px\;" />\n<a data-lynx-mode="hover" href="https://l.facebook.com/l.php?u=https%3A%2F%2Frtbav.nra.org%2F%3Ffbclid%3DIwAR2b_4mKueVP6TU3aGQ57svHtHf8t4MIf-zo8ja6p9yaRnmo4BjOL8fePpI&amp\;h=AT2jttUAXNibsO9tAeEPuAXmcbiza6s8xTLMWc-xf7Zlf3mTcCUK5d0qbiL1Kuigzi77Nkx_KUIvPEkl4NczA83REOBVDtjNGaXW4ZfqlkkJK56RfsM1pGxKXLnxau6NfixN" rel="nofollow" style="text-align: left\; color: rgb(56\, 88\, 152)\; text-transform: none\; text-indent: 0px\; letter-spacing: normal\; font-family: inherit\; font-size: 14px\; font-style: normal\; font-variant: normal\; font-weight: 400\; text-decoration: none\; word-spacing: 0px\; white-space: pre-wrap\; cursor: pointer\; orphans: 2\; -webkit-text-stroke-width: 0px\;" target="_blank">https://rtbav.nra.org/</a><br style="text-align: left\; color: rgb(29\, 33\, 41)\; text-transform: none\; text-indent: 0px\; letter-spacing: normal\; font-family: Helvetica\,Arial\,sans-serif\; font-size: 14px\; font-style: normal\; font-variant: normal\; font-weight: 400\; text-decoration: none\; word-spacing: 0px\; white-space: pre-wrap\; orphans: 2\; -webkit-text-stroke-width: 0px\;" />\n<br style="text-align: left\; color: rgb(29\, 33\, 41)\; text-transform: none\; text-indent: 0px\; letter-spacing: normal\; font-family: Helvetica\,Arial\,sans-serif\; font-size: 14px\; font-style: normal\; font-variant: normal\; font-weight: 400\; text-decoration: none\; word-spacing: 0px\; white-space: pre-wrap\; orphans: 2\; -webkit-text-stroke-width: 0px\;" />\n<span style="text-align: left\; color: rgb(29\, 33\, 41)\; text-transform: none\; text-indent: 0px\; letter-spacing: normal\; font-family: inherit\; font-size: 14px\; font-style: normal\; font-variant: normal\; font-weight: 400\; text-decoration: none\; word-spacing: 0px\; float: none\; display: inline !important\; white-space: pre-wrap\; orphans: 2\; background-color: rgb(255\, 255\, 255)\; -webkit-text-stroke-width: 0px\;">QUESTIONS ??? Please contact Central Ohio Safety Solutions LLC at info@ohsafetysolutions.com</span>
LOCATION:Chamber of Commerce 501 South Main Street\, Mount Vernon
UID:e.2893.4362
SEQUENCE:3
DTSTAMP:20260421T085033Z
URL:http://knoxchamber.smartcms.site/events/details/refuse-to-be-a-victim-seminar-4362
END:VEVENT

END:VCALENDAR
