BEGIN:VCALENDAR
VERSION:2.0
PRODID:-//ChamberMaster//Event Calendar 2.0//EN
METHOD:PUBLISH
X-PUBLISHED-TTL:P3D
REFRESH-INTERVAL:P3D
CALSCALE:GREGORIAN
BEGIN:VEVENT
DTSTART;VALUE=DATE:20190101
DTEND;VALUE=DATE:20190202
TRANSP:TRANSPARENT
X-MICROSOFT-CDO-ALLDAYEVENT:TRUE
SUMMARY:Recycling Educational Program
DESCRIPTION:Knox County Recycling & Litter Prevention is offering educational courses on recycling this upcoming year.  Schedule a speaker to be invited to your company for no charge!  The group will receive a new 2019 Recycling Guide as well as information on composting. \n\n \n\nClick Here to view the agenda with objectives.
X-ALT-DESC;FMTTYPE=text/html:Knox County Recycling &amp\; Litter Prevention is offering educational courses on recycling this upcoming year.&nbsp\; Schedule a speaker to be invited to your company for no charge!&nbsp\; The group will receive a new 2019 Recycling Guide as well as information on composting.&nbsp\;<br />\n&nbsp\;<br />\n<a href="https://chambermaster.blob.core.windows.net/userfiles/UserFiles/chambers/2893/File/RecyclingEducationalProgram.docx">Click Here</a> to view the agenda with objectives.
LOCATION:Your place of business
UID:e.2893.3845
SEQUENCE:3
DTSTAMP:20260421T182032Z
URL:http://knoxchamber.smartcms.site/events/details/recycling-educational-program-3845
END:VEVENT

END:VCALENDAR
