BEGIN:VCALENDAR
VERSION:2.0
PRODID:-//ChamberMaster//Event Calendar 2.0//EN
METHOD:PUBLISH
X-PUBLISHED-TTL:P3D
REFRESH-INTERVAL:P3D
CALSCALE:GREGORIAN
BEGIN:VEVENT
DTSTART:20190511T180000Z
DTEND:20190511T200000Z
X-MICROSOFT-CDO-ALLDAYEVENT:FALSE
SUMMARY:Recycle: Let's Get it Right!
DESCRIPTION:Randy Canterbury from Knox County Recycling & Litter Prevention will clear up any and all questions we might have about recycling. Know what items are acceptable at drop-off centers\, where these centers are located\, and why we can't recycle everything. He will also tell us how we can save money by recycling. Meet at the BFEC Resource Center
X-ALT-DESC;FMTTYPE=text/html:Randy Canterbury from Knox County Recycling &amp\; Litter Prevention will clear up any and all questions we might have about recycling. Know what items are acceptable at drop-off centers\, where these centers are located\, and why we can&rsquo\;t recycle everything. He will also tell us how we can save money by recycling. Meet at the BFEC Resource Center
LOCATION:Brown Family Environmental Center
UID:e.2893.4276
SEQUENCE:3
DTSTAMP:20260421T132502Z
URL:http://knoxchamber.smartcms.site/events/details/recycle-let-s-get-it-right-4276
END:VEVENT

END:VCALENDAR
