BEGIN:VCALENDAR
VERSION:2.0
PRODID:-//ChamberMaster//Event Calendar 2.0//EN
METHOD:PUBLISH
X-PUBLISHED-TTL:P3D
REFRESH-INTERVAL:P3D
CALSCALE:GREGORIAN
BEGIN:VEVENT
DTSTART:20180112T130000Z
DTEND:20180112T210000Z
X-MICROSOFT-CDO-ALLDAYEVENT:FALSE
SUMMARY:Readiness and Emergency Management for Schools (REMS) Technical Assistance (TA) Center
DESCRIPTION:School Behavioral Threat Assessments: An Introduction\n\nAn overview of school behavioral threat assessments to prevent and reduce targeted violence.\n\n \nThe Readiness and Emergency Management for Schools (REMS) Technical Assistance (TA) Center\, in partnership with the U.S. Department of Education (ED)\, Office of Safe and Healthy Students (OSHS)\, is pleased to offer a one-day Train-the-Educator training designed to familiarize schools and school districts with school behavioral threat assessments in preventing and reducing targeted violence at K-12 schools. Topics covered include how a threat assessment team can be integrated into the broader framework of school safety\, security\, emergency management and preparedness put forth in the Guide for Developing High-Quality School Emergency Operations Plans (School Guide).\n\nTraining Description\n\nAs part of a comprehensive school emergency operations plan (school EOP)\, it is important for schools and school districts to understand how to prevent\, protect against\, mitigate\, respond to and recover from critical incidents. This training introduces participants to various components of school behavioral threat assessments\, which were originally put forth by the Safe School Initiative (SSI)\, alongside new information and guidance from the Federal Bureau of Investigation as presented in the School Guide. Participants will learn about effective characteristics of threat assessments for consideration when forming their own approach and team. Specialized topics will also be addressed\, such as the use of social media in threat assessments. Participants will have the opportunity to discuss concepts in small-group discussions and practice a basic threat assessment in a tabletop exercise.
X-ALT-DESC;FMTTYPE=text/html:<span style="font-size:14px\;"><span style="font-family:times new roman\;">School Behavioral Threat Assessments: An Introduction<br />\nAn overview of school behavioral threat assessments to prevent and reduce targeted violence.</span></span><br />\n&nbsp\;\n<p style="margin: 0px 0px 1.5em\; padding: 0px\; border: 0px\; line-height: 1.6em\; color: rgb(68\, 68\, 68)\; font-family: sans-serif\; font-size: 16px\; background-color: rgb(255\, 255\, 255)\;"><span style="font-size:14px\;"><span style="font-family:times new roman\;">The&nbsp\;<b>Readiness and Emergency Management for Schools (REMS) Technical Assistance (TA) Center\,</b>&nbsp\;in partnership with the U.S. Department of Education (ED)\, Office of Safe and Healthy Students (OSHS)\, is pleased to offer a one-day Train-the-Educator training designed to familiarize schools and school districts with school behavioral threat assessments in preventing and reducing targeted violence at K-12 schools. Topics covered include how a threat assessment team can be integrated into the broader framework of school safety\, security\, emergency management and preparedness put forth in the&nbsp\;<i>Guide for Developing High-Quality School Emergency Operations Plans (School Guide).</i></span></span></p>\n\n<h4 style="margin: 0px\; padding: 0px\; border: 0px\; color: rgb(68\, 68\, 68)\; font-family: sans-serif\; font-size: 16px\; background-color: rgb(255\, 255\, 255)\;"><span style="font-size:14px\;"><span style="font-family:times new roman\;"><strong>Training Description</strong></span></span></h4>\n\n<p style="margin: 0px 0px 1.5em\; padding: 0px\; border: 0px\; line-height: 1.6em\; color: rgb(68\, 68\, 68)\; font-family: sans-serif\; font-size: 16px\; background-color: rgb(255\, 255\, 255)\;"><span style="font-size:14px\;"><span style="font-family:times new roman\;">As part of a comprehensive school emergency operations plan (school EOP)\, it is important for schools and school districts to understand how to prevent\, protect against\, mitigate\, respond to and recover from critical incidents. This training introduces participants to various components of school behavioral threat assessments\, which were originally put forth by the Safe School Initiative (SSI)\, alongside new information and guidance from the Federal Bureau of Investigation as presented in the&nbsp\;<i>School Guide.</i>&nbsp\;Participants will learn about effective characteristics of threat assessments for consideration when forming their own approach and team. Specialized topics will also be addressed\, such as the use of social media in threat assessments. Participants will have the opportunity to discuss concepts in small-group discussions and practice a basic threat assessment in a tabletop exercise.</span></span></p>\n
LOCATION:Training Details Friday\, January 12\, 2018 8:00am to 4:00pm Twin Oak Elementary School 8888 Martinsburg Road\, Mount Vernon Cost: No Charge For more information and to register online by clicking the link below: http://www.remstacenter.org/TBR/TrainingRegistration.aspx?trainingsid=1278
UID:e.2893.2537
SEQUENCE:3
DTSTAMP:20260422T161520Z
URL:http://knoxchamber.smartcms.site/events/details/readiness-and-emergency-management-for-schools-rems-technical-assistance-ta-center-2537
END:VEVENT

END:VCALENDAR
