BEGIN:VCALENDAR
VERSION:2.0
PRODID:-//ChamberMaster//Event Calendar 2.0//EN
METHOD:PUBLISH
X-PUBLISHED-TTL:P3D
REFRESH-INTERVAL:P3D
CALSCALE:GREGORIAN
BEGIN:VEVENT
DTSTART:20190413T140000Z
DTEND:20190413T190000Z
X-MICROSOFT-CDO-ALLDAYEVENT:FALSE
SUMMARY:Quilter's Market Day
DESCRIPTION:Buy & sell quilting tools\, books\, patterns\, fat quarters\, quilted items. Tables available $20 per table. Quilt Show   Demonstrations   Fat Quarter Drawing (enter one or more to win). Lunch available for purchase.
X-ALT-DESC;FMTTYPE=text/html:<span style="color: rgb(70\, 70\, 70)\; font-family: &quot\;Open Sans&quot\;\; font-size: 15px\; background-color: rgb(255\, 255\, 255)\;">Buy &amp\; sell quilting tools\, books\, patterns\, fat quarters\, quilted items. Tables available $20 per table. Quilt Show &ndash\; Demonstrations &ndash\; Fat Quarter Drawing (enter one or more to win). Lunch available for purchase.</span>
LOCATION:Fredericktown Local Schools\, 111 Stadium Drive\, Fredericktown
UID:e.2893.4283
SEQUENCE:3
DTSTAMP:20260421T152036Z
URL:http://knoxchamber.smartcms.site/events/details/quilter-s-market-day-4283
END:VEVENT

END:VCALENDAR
