BEGIN:VCALENDAR
VERSION:2.0
PRODID:-//ChamberMaster//Event Calendar 2.0//EN
METHOD:PUBLISH
X-PUBLISHED-TTL:P3D
REFRESH-INTERVAL:P3D
CALSCALE:GREGORIAN
BEGIN:VEVENT
DTSTART:20180809T170000Z
DTEND:20180809T210000Z
X-MICROSOFT-CDO-ALLDAYEVENT:FALSE
SUMMARY:Print Making
DESCRIPTION:Free Summer Program at the BFEC & Gund Gallery for students entering 4\,5\,6 Call 740-427-5052 to register! Linoleum\, gelatin\, and the sun - what do they have in common? We will use these tools to make prints of things from nature. We will spend half of the day at the Gund Gallery and half of the day at the BFEC. Registration deadline: August 7.
X-ALT-DESC;FMTTYPE=text/html:Free Summer Program at the BFEC &amp\; Gund Gallery for students entering 4\,5\,6 Call 740-427-5052 to register! Linoleum\, gelatin\, and the sun - what do they have in common? We will use these tools to make prints of things from nature. We will spend half of the day at the Gund Gallery and half of the day at the BFEC. Registration deadline: August 7.
LOCATION:
UID:e.2893.3735
SEQUENCE:3
DTSTAMP:20260422T055854Z
URL:http://knoxchamber.smartcms.site/events/details/print-making-3735
END:VEVENT

END:VCALENDAR
