BEGIN:VCALENDAR
VERSION:2.0
PRODID:-//ChamberMaster//Event Calendar 2.0//EN
METHOD:PUBLISH
X-PUBLISHED-TTL:P3D
REFRESH-INTERVAL:P3D
CALSCALE:GREGORIAN
BEGIN:VEVENT
DTSTART:20200222T190000Z
DTEND:20200222T210000Z
X-MICROSOFT-CDO-ALLDAYEVENT:FALSE
SUMMARY:Prehistoric cultures of Knox County
DESCRIPTION:Meet at the BFEC Resource Center. Learn about the Paleolithic peoples who lived in Knox County. Some of the most important cultures of prehistory were formed and reached their apogees in Ohio. Presentation will be followed by display of authentic artifacts (Clovis points\, arrowheads\, and more) that were found in Knox County. Presented by the Kokosing chapter of the Archeological Society of Ohio.
X-ALT-DESC;FMTTYPE=text/html:Meet at the BFEC Resource Center. Learn about the Paleolithic peoples who lived in Knox County. Some of the most important cultures of prehistory were formed and reached their apogees in Ohio. Presentation will be followed by display of authentic artifacts (Clovis points\, arrowheads\, and more) that were found in Knox County. Presented by the Kokosing chapter of the Archeological Society of Ohio.
LOCATION:Brown Family Environmental Center
UID:e.2893.4733
SEQUENCE:3
DTSTAMP:20260420T212733Z
URL:http://knoxchamber.smartcms.site/events/details/prehistoric-cultures-of-knox-county-4733
END:VEVENT

END:VCALENDAR
