BEGIN:VCALENDAR
VERSION:2.0
PRODID:-//ChamberMaster//Event Calendar 2.0//EN
METHOD:PUBLISH
X-PUBLISHED-TTL:P3D
REFRESH-INTERVAL:P3D
CALSCALE:GREGORIAN
BEGIN:VEVENT
DTSTART:20170505T203000Z
DTEND:20170505T220000Z
X-MICROSOFT-CDO-ALLDAYEVENT:FALSE
SUMMARY:Power of the Purse
DESCRIPTION:"Power of the Purse" a Women United fundraiser.
X-ALT-DESC;FMTTYPE=text/html:&quot\;Power of the Purse&quot\; a Women United fundraiser.&nbsp\;
LOCATION:Kenyon College - Gund Commons
UID:e.2893.1294
SEQUENCE:3
DTSTAMP:20260423T075716Z
URL:http://knoxchamber.smartcms.site/events/details/power-of-the-purse-1294
END:VEVENT

END:VCALENDAR
