BEGIN:VCALENDAR
VERSION:2.0
PRODID:-//ChamberMaster//Event Calendar 2.0//EN
METHOD:PUBLISH
X-PUBLISHED-TTL:P3D
REFRESH-INTERVAL:P3D
CALSCALE:GREGORIAN
BEGIN:VEVENT
DTSTART:20190927T230000Z
DTEND:20190928T003000Z
X-MICROSOFT-CDO-ALLDAYEVENT:FALSE
SUMMARY:Potpourri of Research
DESCRIPTION:Peter Dickson to talk about the Woodward Opera House\, Women at Kenyon\, and the building\n\nat 229 South Main Street where Paragraphs is now.
X-ALT-DESC;FMTTYPE=text/html:Peter Dickson to talk about the Woodward Opera House\, Women at Kenyon\, and the building<br />\nat 229 South Main Street where Paragraphs is now.
LOCATION:229 South Main Street\, Mount Vernon\, Ohio
UID:e.2893.4469
SEQUENCE:3
DTSTAMP:20260421T053642Z
URL:http://knoxchamber.smartcms.site/events/details/potpourri-of-research-4469
END:VEVENT

END:VCALENDAR
