BEGIN:VCALENDAR
VERSION:2.0
PRODID:-//ChamberMaster//Event Calendar 2.0//EN
METHOD:PUBLISH
X-PUBLISHED-TTL:P3D
REFRESH-INTERVAL:P3D
CALSCALE:GREGORIAN
BEGIN:VEVENT
DTSTART:20180619T220000Z
DTEND:20180619T160000Z
X-MICROSOFT-CDO-ALLDAYEVENT:FALSE
SUMMARY:Plein Air Painting at the BFEC
DESCRIPTION:Tuesday evenings beginning May 22. Meet at the Picnic Pavilion. Paint\, draw\, or sketch outside. Bring your own supplies\, including a chair and/or easel\, and spend the evening hours creating art in a peaceful setting. The Resource Center will be open for restrooms. The Wildlife Garden\, ponds\, and trails are all waiting to be painted. Wendy Fetters\, a local artist\, will provide a brief introduction on May 22.
X-ALT-DESC;FMTTYPE=text/html:Tuesday evenings beginning May 22. Meet at the Picnic Pavilion. Paint\, draw\, or sketch outside. Bring your own supplies\, including a chair and/or easel\, and spend the evening hours creating art in a peaceful setting. The Resource Center will be open for restrooms. The Wildlife Garden\, ponds\, and trails are all waiting to be painted. Wendy Fetters\, a local artist\, will provide a brief introduction on May 22.
LOCATION:Brown Family Environmental Center
UID:e.2893.3667
SEQUENCE:3
DTSTAMP:20260422T075520Z
URL:http://knoxchamber.smartcms.site/events/details/plein-air-painting-at-the-bfec-06-19-2018-3667
END:VEVENT

END:VCALENDAR
