BEGIN:VCALENDAR
VERSION:2.0
PRODID:-//ChamberMaster//Event Calendar 2.0//EN
METHOD:PUBLISH
X-PUBLISHED-TTL:P3D
REFRESH-INTERVAL:P3D
CALSCALE:GREGORIAN
BEGIN:VEVENT
DTSTART:20191015T220000Z
DTEND:20191016T000000Z
X-MICROSOFT-CDO-ALLDAYEVENT:FALSE
SUMMARY:Plein Air Painters
DESCRIPTION:Paint\, draw\, or sketch at the BFEC! Bring your supplies\, including a chair and/or easel\, and spend the evening hours painting in a peaceful setting. The Resource Center will be open for restrooms. Meet at the BFEC Picnic Pavilion. Every Tuesday\, weather permitting\, until October 29!
X-ALT-DESC;FMTTYPE=text/html:Paint\, draw\, or sketch at the BFEC! Bring your supplies\, including a chair and/or easel\, and spend the evening hours painting in a peaceful setting. The Resource Center will be open for restrooms. Meet at the BFEC Picnic Pavilion. Every Tuesday\, weather permitting\, until October 29!
LOCATION:Brown Family Environmental Center
UID:e.2893.4409
SEQUENCE:3
DTSTAMP:20260421T053701Z
URL:http://knoxchamber.smartcms.site/events/details/plein-air-painters-10-15-2019-4409
END:VEVENT

END:VCALENDAR
