BEGIN:VCALENDAR
VERSION:2.0
PRODID:-//ChamberMaster//Event Calendar 2.0//EN
METHOD:PUBLISH
X-PUBLISHED-TTL:P3D
REFRESH-INTERVAL:P3D
CALSCALE:GREGORIAN
BEGIN:VEVENT
DTSTART:20171209T173000Z
DTEND:20171209T203000Z
X-MICROSOFT-CDO-ALLDAYEVENT:FALSE
SUMMARY:Pet Photos with Santa
DESCRIPTION:Knox County Humane Society offers Pet Photos with Santa. Bring your beloved pet(s) for a photo--modest fee per pet. Receive two 4X6 color photos. All proceeds stay local and benefit the KC Humane Society\, a 501(c)(3) non-profit organization.
X-ALT-DESC;FMTTYPE=text/html:Knox County Humane Society offers Pet Photos with Santa. Bring your beloved pet(s) for a photo--modest fee per pet. Receive two 4X6 color photos. All proceeds stay local and benefit the KC Humane Society\, a 501(c)(3) non-profit organization.
LOCATION:Gambier Community Center 115 Meadow Lane\, Room 4 Gambier\, OH 43022
UID:e.2893.2530
SEQUENCE:3
DTSTAMP:20260422T174958Z
URL:http://knoxchamber.smartcms.site/events/details/pet-photos-with-santa-2530
END:VEVENT

END:VCALENDAR
