BEGIN:VCALENDAR
VERSION:2.0
PRODID:-//ChamberMaster//Event Calendar 2.0//EN
METHOD:PUBLISH
X-PUBLISHED-TTL:P3D
REFRESH-INTERVAL:P3D
CALSCALE:GREGORIAN
BEGIN:VEVENT
DTSTART:20181102T160000Z
DTEND:20181102T180000Z
X-MICROSOFT-CDO-ALLDAYEVENT:FALSE
SUMMARY:Peoples Bank South Chili Cook-off
DESCRIPTION:Come warm up with a bowl of chili\, or four\, as you meet the new manager\, and learn more about the 98 years Peoples Bank has been in Knox County!
X-ALT-DESC;FMTTYPE=text/html:Come warm up with a bowl of chili\, or four\, as you meet the new manager\, and learn more about the 98 years Peoples Bank has been in Knox County!
LOCATION:Peoples Bank South 1051 Newark Road
UID:e.2893.3834
SEQUENCE:3
DTSTAMP:20260422T011159Z
URL:http://knoxchamber.smartcms.site/events/details/peoples-bank-south-chili-cook-off-3834
END:VEVENT

END:VCALENDAR
