BEGIN:VCALENDAR
VERSION:2.0
PRODID:-//ChamberMaster//Event Calendar 2.0//EN
METHOD:PUBLISH
X-PUBLISHED-TTL:P3D
REFRESH-INTERVAL:P3D
CALSCALE:GREGORIAN
BEGIN:VEVENT
DTSTART:20190628T150000Z
DTEND:20190628T190000Z
X-MICROSOFT-CDO-ALLDAYEVENT:FALSE
SUMMARY:Peoples Bank of Gambier Customer Appreciation Day
DESCRIPTION:Annual Customer Appreciation Day.  Lunch will be served\, as well as the Dogs of Knox County on site for a basket raffle and the opportunity to adopt a dog!
X-ALT-DESC;FMTTYPE=text/html:Annual Customer Appreciation Day.&nbsp\; Lunch will be served\, as well as the Dogs of Knox County on site for a basket raffle and the opportunity to adopt a dog!
LOCATION:103 East Wiggin Street\, Gambier
UID:e.2893.4347
SEQUENCE:3
DTSTAMP:20260421T103951Z
URL:http://knoxchamber.smartcms.site/events/details/peoples-bank-of-gambier-customer-appreciation-day-4347
END:VEVENT

END:VCALENDAR
