BEGIN:VCALENDAR
VERSION:2.0
PRODID:-//ChamberMaster//Event Calendar 2.0//EN
METHOD:PUBLISH
X-PUBLISHED-TTL:P3D
REFRESH-INTERVAL:P3D
CALSCALE:GREGORIAN
BEGIN:VEVENT
DTSTART:20170629T150000Z
DTEND:20170629T190000Z
X-MICROSOFT-CDO-ALLDAYEVENT:FALSE
SUMMARY:People's Bank of Marietta - Customer Appreciation Day
DESCRIPTION:11:00am to 3:00pm
X-ALT-DESC;FMTTYPE=text/html:11:00am to 3:00pm&nbsp\;
LOCATION:1345 Yauger Road\, Mount Vernon
UID:e.2893.1397
SEQUENCE:3
DTSTAMP:20260423T063309Z
URL:http://knoxchamber.smartcms.site/events/details/people-s-bank-of-marietta-customer-appreciation-day-1397
END:VEVENT

END:VCALENDAR
