BEGIN:VCALENDAR
VERSION:2.0
PRODID:-//ChamberMaster//Event Calendar 2.0//EN
METHOD:PUBLISH
X-PUBLISHED-TTL:P3D
REFRESH-INTERVAL:P3D
CALSCALE:GREGORIAN
BEGIN:VEVENT
DTSTART:20190919T120000Z
DTEND:20190920T020000Z
X-MICROSOFT-CDO-ALLDAYEVENT:FALSE
SUMMARY:Pastor Appreciation Breakfast
DESCRIPTION:Free made to order breakfast for our local pastors. Please eat in and socialize or take it to go.
X-ALT-DESC;FMTTYPE=text/html:Free made to order breakfast for our local pastors. Please eat in and socialize or take it to go.
LOCATION:1615 Yauger Road Mount Vernon\, Ohio 43028
UID:e.2893.4440
SEQUENCE:3
DTSTAMP:20260421T053321Z
URL:http://knoxchamber.smartcms.site/events/details/pastor-appreciation-breakfast-4440
END:VEVENT

END:VCALENDAR
