BEGIN:VCALENDAR
VERSION:2.0
PRODID:-//ChamberMaster//Event Calendar 2.0//EN
METHOD:PUBLISH
X-PUBLISHED-TTL:P3D
REFRESH-INTERVAL:P3D
CALSCALE:GREGORIAN
BEGIN:VEVENT
DTSTART:20190907T130000Z
DTEND:20190907T160000Z
X-MICROSOFT-CDO-ALLDAYEVENT:FALSE
SUMMARY:Passport to Good Health
DESCRIPTION:The Knox County Health Department in association with Get Healthy Knox County\, presents Passport to Good Health.  The first Saturday of each month from May to October! Enjoy the Mount Vernon Farmers' Market\, get a free health screening\, and listen to a health talk by a local health expert.  Weather Permitting.
X-ALT-DESC;FMTTYPE=text/html:The Knox County Health Department in association with Get Healthy Knox County\, presents Passport to Good Health.&nbsp\; The first Saturday of each month from May to October! Enjoy the Mount Vernon Farmers&#39\; Market\, get a free health screening\, and&nbsp\;listen to a health talk by a local health expert.&nbsp\; Weather Permitting.
LOCATION:Mount Vernon Public Square
UID:e.2893.4375
SEQUENCE:3
DTSTAMP:20260421T053701Z
URL:http://knoxchamber.smartcms.site/events/details/passport-to-good-health-4375
END:VEVENT

END:VCALENDAR
