BEGIN:VCALENDAR
VERSION:2.0
PRODID:-//ChamberMaster//Event Calendar 2.0//EN
METHOD:PUBLISH
X-PUBLISHED-TTL:P3D
REFRESH-INTERVAL:P3D
CALSCALE:GREGORIAN
BEGIN:VEVENT
DTSTART:20190817T123000Z
DTEND:20190817T160000Z
X-MICROSOFT-CDO-ALLDAYEVENT:FALSE
SUMMARY:Passport to Fishing--at Ariel-Foundation Park
DESCRIPTION:For children ages 8 to 16 and a caregiver (mom\, dad\, grandparent\, etc.). Learn how to cast\, tie knots\, handle fish\, and identify good fish habitat. After a 2-hour hands-on class\, we will do actual fishing for about 1   hours at Ariel-Foundation Park. Fishing poles will be provided but kids are also welcome to use their own. Meet at the First Knox National Bank Pavilion (located at the north edge of the ponds) at Ariel-Foundation Park at 8:30 a.m. Caregivers - please plan to stay and learn with your child. Call now to register 740-427-5052. This program is offered in partnership with Ohio Department of Natural Resources (ODNR) and Ariel-Foundation Park.
X-ALT-DESC;FMTTYPE=text/html:For children ages 8 to 16 and a caregiver (mom\, dad\, grandparent\, etc.). Learn how to cast\, tie knots\, handle fish\, and identify good fish habitat. After a 2-hour hands-on class\, we will do actual fishing for about 1 &frac12\; hours at Ariel-Foundation Park. Fishing poles will be provided but kids are also welcome to use their own. Meet at the First Knox National Bank Pavilion (located at the north edge of the ponds) at Ariel-Foundation Park at 8:30 a.m. Caregivers - please plan to stay and learn with your child. Call now to register 740-427-5052. This program is offered in partnership with Ohio Department of Natural Resources (ODNR) and Ariel-Foundation Park.
LOCATION:Ariel-Foundation Park 10 Pittsburgh Ave. Mount Vernon\, OH 43050
UID:e.2893.4356
SEQUENCE:3
DTSTAMP:20260421T071540Z
URL:http://knoxchamber.smartcms.site/events/details/passport-to-fishing-at-ariel-foundation-park-4356
END:VEVENT

END:VCALENDAR
