BEGIN:VCALENDAR
VERSION:2.0
PRODID:-//ChamberMaster//Event Calendar 2.0//EN
METHOD:PUBLISH
X-PUBLISHED-TTL:P3D
REFRESH-INTERVAL:P3D
CALSCALE:GREGORIAN
BEGIN:VEVENT
DTSTART:20191008T213000Z
DTEND:20191008T233000Z
X-MICROSOFT-CDO-ALLDAYEVENT:FALSE
SUMMARY:Parents or Loved Ones Meeting
DESCRIPTION:This Meeting is for ADULTS\, 18 and over\, ONLY. \n\nThis meeting is designed to educate\, inform and support families or friends whose loved ones struggle with addiction. Meet Executive Director and Owner\, Amy Smart as well as the rest of the Riverside Recovery Team. Learn about the legal\, physical and mental aspects of addiction and what you can do to help.  Bring your issues to the staff to see if there is anything they can help you with as well.
X-ALT-DESC;FMTTYPE=text/html:This Meeting is for ADULTS\, 18 and over\, ONLY.&nbsp\;<br />\nThis meeting is designed to educate\, inform and support families or friends whose loved ones struggle with addiction. Meet Executive Director and Owner\, Amy Smart as well as the rest of the Riverside Recovery Team. Learn about the legal\, physical and mental aspects of addiction and what you can do to help.&nbsp\; Bring your issues to the staff to see if there is anything they can help you with as well.&nbsp\;
LOCATION:Riverside Recovery Office\, 213 East Chestnut Street\, Mount Vernon
UID:e.2893.4426
SEQUENCE:3
DTSTAMP:20260421T040101Z
URL:http://knoxchamber.smartcms.site/events/details/parents-or-loved-ones-meeting-4426
END:VEVENT

END:VCALENDAR
