BEGIN:VCALENDAR
VERSION:2.0
PRODID:-//ChamberMaster//Event Calendar 2.0//EN
METHOD:PUBLISH
X-PUBLISHED-TTL:P3D
REFRESH-INTERVAL:P3D
CALSCALE:GREGORIAN
BEGIN:VEVENT
DTSTART:20180112T230000Z
DTEND:20180113T030000Z
X-MICROSOFT-CDO-ALLDAYEVENT:FALSE
SUMMARY:Parents' Night Out
DESCRIPTION:Local beer & wine\, cornhole\, chili cook off\, euchre\, life-size jenga\, plinko\, free contests\, skee ball\, card games and more!
X-ALT-DESC;FMTTYPE=text/html:Local beer &amp\; wine\, cornhole\, chili cook off\, euchre\, life-size jenga\, plinko\, free contests\, skee ball\, card games and more!&nbsp\;
LOCATION:Friday\, January 12\, 2018 Saint Vincent De Paul School $25 per person
UID:e.2893.2540
SEQUENCE:3
DTSTAMP:20260422T173122Z
URL:http://knoxchamber.smartcms.site/events/details/parents-night-out-2540
END:VEVENT

END:VCALENDAR
