BEGIN:VCALENDAR
VERSION:2.0
PRODID:-//ChamberMaster//Event Calendar 2.0//EN
METHOD:PUBLISH
X-PUBLISHED-TTL:P3D
REFRESH-INTERVAL:P3D
CALSCALE:GREGORIAN
BEGIN:VEVENT
DTSTART:20180317T120000Z
DTEND:20180317T160000Z
X-MICROSOFT-CDO-ALLDAYEVENT:FALSE
SUMMARY:Pancakes with Police
DESCRIPTION:Pancakes with Police\n\nSaturday\, March 17\, 2018\n\n8:00am to 12:00pm\n\n\n\nFOR DONATION\n\nAll You Can Eat
X-ALT-DESC;FMTTYPE=text/html:Pancakes with Police<br />\nSaturday\, March 17\, 2018<br />\n8:00am to 12:00pm<br />\n<br />\nFOR DONATION<br />\nAll You Can Eat
LOCATION:Mount Vernon Moose Lodge 417 West High Street\, Mount Vernon
UID:e.2893.2615
SEQUENCE:3
DTSTAMP:20260422T123911Z
URL:http://knoxchamber.smartcms.site/events/details/pancakes-with-police-2615
END:VEVENT

END:VCALENDAR
