BEGIN:VCALENDAR
VERSION:2.0
PRODID:-//ChamberMaster//Event Calendar 2.0//EN
METHOD:PUBLISH
X-PUBLISHED-TTL:P3D
REFRESH-INTERVAL:P3D
CALSCALE:GREGORIAN
BEGIN:VEVENT
DTSTART:20231030T220000Z
DTEND:20231030T233000Z
X-MICROSOFT-CDO-ALLDAYEVENT:FALSE
SUMMARY:PAKunited at Donley Ford for Trunk or Treat
DESCRIPTION:Donley Ford of Mount Vernon is hosting a Trunk or Treat event at their Coshocton Road location. PAKunited will be among the businesses and organizations set up to pass out candy to the children!
X-ALT-DESC;FMTTYPE=text/html:Donley Ford of Mount Vernon is hosting a Trunk or Treat event at their Coshocton Road location. PAKunited will be among the businesses and organizations set up to pass out candy to the children!
LOCATION:Donley Ford of Mount Vernon
UID:e.2893.8617
SEQUENCE:3
DTSTAMP:20260421T090041Z
URL:http://knoxchamber.smartcms.site/events/details/pakunited-at-donley-ford-for-trunk-or-treat-8617
END:VEVENT

END:VCALENDAR
