BEGIN:VCALENDAR
VERSION:2.0
PRODID:-//ChamberMaster//Event Calendar 2.0//EN
METHOD:PUBLISH
X-PUBLISHED-TTL:P3D
REFRESH-INTERVAL:P3D
CALSCALE:GREGORIAN
BEGIN:VEVENT
DTSTART:20201020T200000Z
DTEND:20201021T000000Z
X-MICROSOFT-CDO-ALLDAYEVENT:FALSE
SUMMARY:Paint Outside
DESCRIPTION:Paint\, draw\, or sketch at the BFEC! Bring your supplies\, including a chair and/or easel\, and spend the evening hours painting in a peaceful setting. This is a self-guided activity with like-minded artists. The Resource Center is closed\, but we have a portable toilet behind the building for your convenience. Check the door of the Resource Center for each evening's painting location. Note: Painting Outside is held every Tuesday from 9/1 thru 10/20--4 pm to dusk. Canceled in the event of rain!!
X-ALT-DESC;FMTTYPE=text/html:Paint\, draw\, or sketch at the BFEC! Bring your supplies\, including a chair and/or easel\, and spend the evening hours painting in a peaceful setting. This is a self-guided activity with like-minded artists. The Resource Center is closed\, but we have a portable toilet behind the building for your convenience. Check the door of the Resource Center for each evening's painting location. Note: Painting Outside is held every Tuesday from 9/1 thru 10/20--4 pm to dusk. Canceled in the event of rain!!
LOCATION:Brown Family Environmental Center
UID:e.2893.4808
SEQUENCE:3
DTSTAMP:20260420T105303Z
URL:http://knoxchamber.smartcms.site/events/details/paint-outside-10-20-2020-4808
END:VEVENT

END:VCALENDAR
