BEGIN:VCALENDAR
VERSION:2.0
PRODID:-//ChamberMaster//Event Calendar 2.0//EN
METHOD:PUBLISH
X-PUBLISHED-TTL:P3D
REFRESH-INTERVAL:P3D
CALSCALE:GREGORIAN
BEGIN:VEVENT
DTSTART:20190219T230000Z
DTEND:20190220T010000Z
X-MICROSOFT-CDO-ALLDAYEVENT:FALSE
SUMMARY:"Owl" at the Moon: Full Moon Walk & Owl Talk
DESCRIPTION:Meet at the Resource Center. Join us for an invigorating hike in the light of the full moon. We'll call for owls\, and hopefully\, they will call back! Dress for the weather\, and be prepared for an uphill climb. Program may be cancelled in the event of inclement weather. Call 740-427-5052 for program status.
X-ALT-DESC;FMTTYPE=text/html:Meet at the Resource Center. Join us for an invigorating hike in the light of the full moon. We&rsquo\;ll call for owls\, and hopefully\, they will call back! Dress for the weather\, and be prepared for an uphill climb. Program may be cancelled in the event of inclement weather. Call 740-427-5052 for program status.
LOCATION:Brown Family Environmental Center 9871 Laymon Rd. Gambier\, OH 43022
UID:e.2893.3864
SEQUENCE:3
DTSTAMP:20260421T195659Z
URL:http://knoxchamber.smartcms.site/events/details/owl-at-the-moon-full-moon-walk-owl-talk-3864
END:VEVENT

END:VCALENDAR
