BEGIN:VCALENDAR
VERSION:2.0
PRODID:-//ChamberMaster//Event Calendar 2.0//EN
METHOD:PUBLISH
X-PUBLISHED-TTL:P3D
REFRESH-INTERVAL:P3D
CALSCALE:GREGORIAN
BEGIN:VEVENT
DTSTART:20170330T170000Z
DTEND:20170330T180000Z
X-MICROSOFT-CDO-ALLDAYEVENT:FALSE
SUMMARY:Overcome the Ffear of Business Planning by Using the Business Model Canvas
DESCRIPTION:Simplify the vital step of creating a business plan during this webinar produced by SCORE\, a resource partner of the U.S. Small Business Administration. We'll introduce you to the Business Model Canvas\, a one-page document that allows you to test and validate the key parts of your business without the complexity of a full plan.\n\n \n\nThursday\, March 30\, 2017\n\n1:00pm ET / 10:00am PT
X-ALT-DESC;FMTTYPE=text/html:<p class="gdp" style="line-height:12.75pt"><span style="font-size:10.5pt\;\nfont-family:&quot\;Helvetica&quot\;\,sans-serif\;color:#4E4D4E">Simplify the vital step of creating a business plan during this webinar produced by SCORE\, a resource partner of the U.S. Small Business Administration. We&rsquo\;ll introduce you to the Business Model Canvas\, a one-page document that allows you to test and validate the key parts of your business without the complexity of a full plan.<o:p></o:p></span></p>\n\n<p class="gdp" style="line-height:12.75pt"><span style="font-size:10.5pt\;\nfont-family:&quot\;Helvetica&quot\;\,sans-serif\;color:#4E4D4E">&nbsp\;<o:p></o:p></span></p>\n\n<p class="gdp" style="line-height:12.75pt"><span style="font-size:10.5pt\;\nfont-family:&quot\;Helvetica&quot\;\,sans-serif\;color:#4E4D4E">Thursday\, March 30\, 2017<o:p></o:p></span></p>\n\n<p class="gdp" style="line-height:12.75pt"><span style="font-size:10.5pt\;\nfont-family:&quot\;Helvetica&quot\;\,sans-serif\;color:#4E4D4E">1:00pm ET / 10:00am PT<o:p></o:p></span></p>\n
LOCATION:
UID:e.2893.1324
SEQUENCE:3
DTSTAMP:20260423T112709Z
URL:http://knoxchamber.smartcms.site/events/details/overcome-the-ffear-of-business-planning-by-using-the-business-model-canvas-1324
END:VEVENT

END:VCALENDAR
