BEGIN:VCALENDAR
VERSION:2.0
PRODID:-//ChamberMaster//Event Calendar 2.0//EN
METHOD:PUBLISH
X-PUBLISHED-TTL:P3D
REFRESH-INTERVAL:P3D
CALSCALE:GREGORIAN
BEGIN:VEVENT
DTSTART:20191009T160000Z
DTEND:20191009T170000Z
X-MICROSOFT-CDO-ALLDAYEVENT:FALSE
SUMMARY:Outdoor Om: Yoga at the BFEC
DESCRIPTION:Use your lunch break to de-stress with an outdoor yoga class. Bring your kids\, grandkids\, friends\, etc. - open to all ages. Bring your own mat or use ours. Free! Meet in the BFEC garden (behind the farmhouse).
X-ALT-DESC;FMTTYPE=text/html:Use your lunch break to de-stress with an outdoor yoga class. Bring your kids\, grandkids\, friends\, etc. - open to all ages. Bring your own mat or use ours. Free! Meet in the BFEC garden (behind the farmhouse).&nbsp\;
LOCATION:Brown Family Environmental Center 9781 Laymon Road\, Gambier
UID:e.2893.4611
SEQUENCE:3
DTSTAMP:20260421T053736Z
URL:http://knoxchamber.smartcms.site/events/details/outdoor-om-yoga-at-the-bfec-10-09-2019-4611
END:VEVENT

END:VCALENDAR
