BEGIN:VCALENDAR
VERSION:2.0
PRODID:-//ChamberMaster//Event Calendar 2.0//EN
METHOD:PUBLISH
X-PUBLISHED-TTL:P3D
REFRESH-INTERVAL:P3D
CALSCALE:GREGORIAN
BEGIN:VEVENT
DTSTART:20190805T161000Z
DTEND:20190805T165500Z
X-MICROSOFT-CDO-ALLDAYEVENT:FALSE
SUMMARY:Outdoor Om: Yoga at the BFEC
DESCRIPTION:Use your lunch break to de-stress with an outdoor yoga class. Bring your kids\, grandkids\, friends\, etc. - open to all ages. Bring your own mat or use ours. Free! Meet in the BFEC garden (behind the farmhouse). Held every Monday and Wednesday starting on July 15 and ending on August 28! If stormy\, yoga will be held indoors at our Resource Center.
X-ALT-DESC;FMTTYPE=text/html:Use your lunch break to de-stress with an outdoor yoga class. Bring your kids\, grandkids\, friends\, etc. - open to all ages. Bring your own mat or use ours. Free! Meet in the BFEC garden (behind the farmhouse). Held every Monday and Wednesday starting on July 15 and ending on August 28! If stormy\, yoga will be held indoors at our Resource Center.
LOCATION:Brown Family Environmental Center
UID:e.2893.4389
SEQUENCE:3
DTSTAMP:20260421T071328Z
URL:http://knoxchamber.smartcms.site/events/details/outdoor-om-yoga-at-the-bfec-08-05-2019-4389
END:VEVENT

END:VCALENDAR
