BEGIN:VCALENDAR
VERSION:2.0
PRODID:-//ChamberMaster//Event Calendar 2.0//EN
METHOD:PUBLISH
X-PUBLISHED-TTL:P3D
REFRESH-INTERVAL:P3D
CALSCALE:GREGORIAN
BEGIN:VEVENT
DTSTART:20180713T233000Z
DTEND:20180714T010000Z
X-MICROSOFT-CDO-ALLDAYEVENT:FALSE
SUMMARY:Opening Concert of the Young Artist's Harp Seminar with Nancy Allen
DESCRIPTION:The Young Artist's Harp Seminar makes its first appearance at Kenyon College this July. Top young harpists from around the world will join a roster of distinguished faculty artists including guest artist Nancy Allen\, principal harpist with the New York Philharmonic and harp instructor at Juilliard. Hear Allen along with featured young artists perform in the YAHS opening concert on July 13.
X-ALT-DESC;FMTTYPE=text/html:The Young Artist&#39\;s Harp Seminar makes its first appearance at Kenyon College this July. Top young harpists from around the world will join a roster of distinguished faculty artists including guest artist Nancy Allen\, principal harpist with the New York Philharmonic and harp instructor at Juilliard. Hear Allen along with featured young artists perform in the YAHS opening concert on July 13.
LOCATION:Rosse Hall\, Kenyon College
UID:e.2893.2603
SEQUENCE:3
DTSTAMP:20260422T075722Z
URL:http://knoxchamber.smartcms.site/events/details/opening-concert-of-the-young-artist-s-harp-seminar-with-nancy-allen-2603
END:VEVENT

END:VCALENDAR
