BEGIN:VCALENDAR
VERSION:2.0
PRODID:-//ChamberMaster//Event Calendar 2.0//EN
METHOD:PUBLISH
X-PUBLISHED-TTL:P3D
REFRESH-INTERVAL:P3D
CALSCALE:GREGORIAN
BEGIN:VEVENT
DTSTART:20231101T200000Z
DTEND:20231101T220000Z
X-MICROSOFT-CDO-ALLDAYEVENT:FALSE
SUMMARY:OPEN HOUSE: Ohio Means Jobs Knox County
DESCRIPTION:You are cordially invited to our Open House event!\n\n\n\nJoin us to see the exciting services to benefit job seekers\, employers\, and community members including: \n\n- Brand New Virtual Reality Career Lab\n\n- Upgraded Equipment for Employer Training Room \n\n- Youth Classroom \n\n- Jobs Resource Room \n\n- Community Recycling Center\n\n\n\nSee our new state-of-the-art career exploration and skills training equipment and learn about the many services our office provides to both job seekers and employers.
X-ALT-DESC;FMTTYPE=text/html:<span style="font-size:16px\;"><span style="color:#FF0000\;"><strong>You are cordially invited to our Open House event!</strong></span></span><br />\n<br />\nJoin us to see the exciting services to benefit job seekers\, employers\, and community members including:&nbsp\;<br />\n- <span style="color:#FF0000\;"><strong>Brand New Virtual Reality Career Lab<br />\n- Upgraded Equipment for Employer Training Room&nbsp\;<br />\n- Youth Classroom&nbsp\;<br />\n- Jobs Resource Room&nbsp\;<br />\n- Community Recycling Center</strong></span><br />\n<br />\nSee our new state-of-the-art career exploration and skills training equipment and learn about the many services our office provides to both job seekers and employers.
LOCATION:Opportunity Knox 17604 Coshocton Road Mount Vernon\, Ohio 43050
UID:e.2893.8610
SEQUENCE:3
DTSTAMP:20260421T085715Z
URL:http://knoxchamber.smartcms.site/events/details/open-house-ohio-means-jobs-knox-county-8610
END:VEVENT

END:VCALENDAR
