BEGIN:VCALENDAR
VERSION:2.0
PRODID:-//ChamberMaster//Event Calendar 2.0//EN
METHOD:PUBLISH
X-PUBLISHED-TTL:P3D
REFRESH-INTERVAL:P3D
CALSCALE:GREGORIAN
BEGIN:VEVENT
DTSTART:20170223T220000Z
DTEND:20170224T000000Z
X-MICROSOFT-CDO-ALLDAYEVENT:FALSE
SUMMARY:Open House MTVARTS Warehouse
DESCRIPTION:Tour the warehouse and enjoy refreshments!
X-ALT-DESC;FMTTYPE=text/html:Tour the warehouse and enjoy refreshments!&nbsp\;
LOCATION:MTVARTS Warehouse 14 East Ohio Ave\, Mount Vernon
UID:e.2893.1271
SEQUENCE:3
DTSTAMP:20260423T124421Z
URL:http://knoxchamber.smartcms.site/events/details/open-house-mtvarts-warehouse-1271
END:VEVENT

END:VCALENDAR
