BEGIN:VCALENDAR
VERSION:2.0
PRODID:-//ChamberMaster//Event Calendar 2.0//EN
METHOD:PUBLISH
X-PUBLISHED-TTL:P3D
REFRESH-INTERVAL:P3D
CALSCALE:GREGORIAN
BEGIN:VEVENT
DTSTART:20180317T230000Z
DTEND:20180318T020000Z
X-MICROSOFT-CDO-ALLDAYEVENT:FALSE
SUMMARY:Oily Outriders ~ Young Living Essential Oils 2018 Spring Grand Ball
DESCRIPTION:The 2018 Spring Grand Ball is for ages 12 and up!\n\nFloor length gowns or modest cocktail length dresses for ladies.\n\nSuit or sport jacket and tie for gentlemen.
X-ALT-DESC;FMTTYPE=text/html:The 2018 Spring Grand Ball is for ages 12 and up!<br />\nFloor length gowns or modest cocktail length dresses for ladies.<br />\nSuit or sport jacket and tie for gentlemen.&nbsp\;
LOCATION:Mount Vernon Developmental Center - Great Room 1250 Vernonview Drive\, Mount Vernon
UID:e.2893.2594
SEQUENCE:3
DTSTAMP:20260422T142214Z
URL:http://knoxchamber.smartcms.site/events/details/oily-outriders-young-living-essential-oils-2018-spring-grand-ball-2594
END:VEVENT

END:VCALENDAR
