BEGIN:VCALENDAR
VERSION:2.0
PRODID:-//ChamberMaster//Event Calendar 2.0//EN
METHOD:PUBLISH
X-PUBLISHED-TTL:P3D
REFRESH-INTERVAL:P3D
CALSCALE:GREGORIAN
BEGIN:VEVENT
DTSTART;VALUE=DATE:20170915
DTEND;VALUE=DATE:20170917
TRANSP:TRANSPARENT
X-MICROSOFT-CDO-ALLDAYEVENT:TRUE
SUMMARY:Ohiolina
DESCRIPTION:Ohiolina Music Festival\n\nSeptember 15th and 16th\n\nCelebrating the music and culture from Ohio to North Carolina
X-ALT-DESC;FMTTYPE=text/html:Ohiolina Music Festival<br />\nSeptember 15th and 16th<br />\nCelebrating the music and culture from Ohio to North Carolina
LOCATION:Listen as exceptional folk\, rock\, Americana and bluegrass acts fill our natural amphitheater with gorgeous sound. Taste local and regionally-inspired menus and sip drinks from some of Ohio and North Carolina's best breweries and wineries. Enjoy a family-friendly atmosphere with activities for all ages. Relax in a peaceful hideaway remote and historic\, it's a quick weekend escape with lush landscapes and beautiful views. A portion of the proceeds from each ticket benefit The Ohiolina Music Scholarship Fund\, an arts and music education fund with the Community Foundation of Mount Vernon and Knox County. Ohiolina is a 501c3 non-profit.
UID:e.2893.1454
SEQUENCE:3
DTSTAMP:20260422T225758Z
URL:http://knoxchamber.smartcms.site/events/details/ohiolina-1454
END:VEVENT

END:VCALENDAR
