BEGIN:VCALENDAR
VERSION:2.0
PRODID:-//ChamberMaster//Event Calendar 2.0//EN
METHOD:PUBLISH
X-PUBLISHED-TTL:P3D
REFRESH-INTERVAL:P3D
CALSCALE:GREGORIAN
BEGIN:VEVENT
DTSTART:20180728T180000Z
DTEND:20180728T193000Z
X-MICROSOFT-CDO-ALLDAYEVENT:FALSE
SUMMARY:Ohio Wildlife: Their Rise and Fall
DESCRIPTION:Meet at the BFEC Resource Center. Bison in Ohio? Yes! Learn about the history of Ohio wildlife from before European settlement to today - bison\, Passenger Pigeons\, beaver\, bear\, wolves\, pheasant\, quail\, and the success stories of the Bald Eagle and the Eastern Bluebird. After the presentation\, an easy walk through our prairie will provide insights on our bluebird trail and other activities at the BFEC that promote local wildlife.
X-ALT-DESC;FMTTYPE=text/html:Meet at the BFEC Resource Center. Bison in Ohio? Yes! Learn about the history of Ohio wildlife from before European settlement to today - bison\, Passenger Pigeons\, beaver\, bear\, wolves\, pheasant\, quail\, and the success stories of the Bald Eagle and the Eastern Bluebird. After the presentation\, an easy walk through our prairie will provide insights on our bluebird trail and other activities at the BFEC that promote local wildlife.
LOCATION:Brown Family Environmental Center
UID:e.2893.3731
SEQUENCE:3
DTSTAMP:20260422T074538Z
URL:http://knoxchamber.smartcms.site/events/details/ohio-wildlife-their-rise-and-fall-3731
END:VEVENT

END:VCALENDAR
