BEGIN:VCALENDAR
VERSION:2.0
PRODID:-//ChamberMaster//Event Calendar 2.0//EN
METHOD:PUBLISH
X-PUBLISHED-TTL:P3D
REFRESH-INTERVAL:P3D
CALSCALE:GREGORIAN
BEGIN:VEVENT
DTSTART:20190306T123000Z
DTEND:20190308T210000Z
X-MICROSOFT-CDO-ALLDAYEVENT:FALSE
SUMMARY:Ohio Safety Congress & Expo
DESCRIPTION:Attend the 2019 Ohio Safety Congress & Expo (OSC19)\,\n\nMarch 6 to 8\, where YOU can connect with thousands of resources under one roof.\n\n\n\nLast year\, more than 8\,000 representatives from Ohio businesses and government attended this FREE safety congress\, the largest and longest-running regional occupational safety\, health and workers' compensation conference in the U.S.
X-ALT-DESC;FMTTYPE=text/html:<span style="font-family: Arial\, Helvetica\, sans-serif\; background-color: rgb(255\, 255\, 255)\; font-size: 16px\;"><span style="font-family: arial\, helvetica\, sans-serif\;">Attend the&nbsp\;2019 Ohio Safety Congress &amp\; Expo (OSC19)\,<br />\nMarch 6 to 8\,&nbsp\;where&nbsp\;<strong>YOU&nbsp\;</strong>can connect with&nbsp\;<strong>thousands of resources&nbsp\;</strong>under one roof.</span><br />\n<br />\n<span style="font-family: arial\, helvetica\, sans-serif\;">Last year\, more than&nbsp\;<strong>8\,000 representatives&nbsp\;</strong>from Ohio businesses and government attended this&nbsp\;<strong>FREE&nbsp\;</strong>safety congress\, the largest and longest-running regional occupational safety\, health and workers&#39\; compensation conference in the U.S.</span></span><br style="font-family: Arial\, Helvetica\, sans-serif\; font-size: 13px\; background-color: rgb(255\, 255\, 255)\;" />\n<span style="font-family: Arial\, Helvetica\, sans-serif\; font-size: 13px\; background-color: rgb(255\, 255\, 255)\;">&nbsp\;</span>
LOCATION:Greater Columbus Convention Center 400 N. High St. Columbus\, OH 43215 (800) 626-0241
UID:e.2893.4242
SEQUENCE:3
DTSTAMP:20260421T182655Z
URL:http://knoxchamber.smartcms.site/events/details/ohio-safety-congress-expo-4242
END:VEVENT

END:VCALENDAR
