BEGIN:VCALENDAR
VERSION:2.0
PRODID:-//ChamberMaster//Event Calendar 2.0//EN
METHOD:PUBLISH
X-PUBLISHED-TTL:P3D
REFRESH-INTERVAL:P3D
CALSCALE:GREGORIAN
BEGIN:VEVENT
DTSTART;VALUE=DATE:20180307
DTEND;VALUE=DATE:20180310
TRANSP:TRANSPARENT
X-MICROSOFT-CDO-ALLDAYEVENT:TRUE
SUMMARY:Ohio Safety Congress & Expo
DESCRIPTION:Registration is now open for the Ohio Safety Congress & Expo\, March 7 to 9 at the Columbus Convention Center.\n\nThe 2018 Ohio Safety Congress & Expo (OSC18)\, sponsored by the Ohio Bureau of Workers' Compensation\, helps businesses keep their work force safe\, healthy and productive. More than 200 educational sessions\, guest presenters from various states and more than 250 exhibitors share their knowledge and resources at this free event.\n\nIndividuals with an interest in occupational safety and health\, wellness\, rehabilitation and medical treatment of injured workers are encouraged to attend. Students are also welcome to attend educational sessions.\n\n\nBy attending the safety congress\, you will learn to:\n\n\n	Prevent workplace injuries and illnesses\;\n	Achieve better outcomes for injured workers\;\n	Reduce workers' compensation claims costs\;\n	Keep Ohio's work force healthy and productive.\n	Facts about our exhibitors\n\n\nhttps://bwc.expoplanner.com/content/osc18/home/
X-ALT-DESC;FMTTYPE=text/html:<p style="margin: 0px 0px 6px\; font-family: Helvetica\, Arial\, sans-serif\; color: rgb(29\, 33\, 41)\; font-size: 14px\;"><span style="font-size:14px\;"><strong>Registration is now open for the Ohio Safety Congress &amp\; Expo\, March 7 to 9 at the Columbus Convention Center.</strong></span></p>\n\n<p style="margin: 6px 0px\; font-family: Helvetica\, Arial\, sans-serif\; color: rgb(29\, 33\, 41)\; font-size: 14px\;">The 2018 Ohio Safety Congress &amp\; Expo (OSC18)\, sponsored by the Ohio Bureau of Workers&rsquo\; Compensation\, helps businesses keep their work force safe\, healthy and productive. More than 200 educational sessions\, guest presenters from various states and more than 250 exhibitors share their knowledge and resources at this free event.</p>\n\n<p style="margin: 6px 0px\; font-family: Helvetica\, Arial\, sans-serif\; color: rgb(29\, 33\, 41)\; font-size: 14px\;">Individuals with an interest in occupation<span class="text_exposed_show" style="display: inline\; font-family: inherit\;">al safety and health\, wellness\, rehabilitation and medical treatment of injured workers are encouraged to attend. Students are also welcome to attend educational sessions.</span></p>\n\n<div class="text_exposed_show" style="display: inline\; font-family: Helvetica\, Arial\, sans-serif\; color: rgb(29\, 33\, 41)\; font-size: 14px\;">\n<p style="margin: 0px 0px 6px\; font-family: inherit\;"><em>By attending the safety congress\, you will learn to:</em></p>\n\n<ul>\n	<li style="margin: 0px 0px 6px\; font-family: inherit\;">Prevent workplace injuries and illnesses\;</li>\n	<li style="margin: 0px 0px 6px\; font-family: inherit\;">Achieve better outcomes for injured workers\;</li>\n	<li style="margin: 0px 0px 6px\; font-family: inherit\;">Reduce workers&rsquo\; compensation claims costs\;</li>\n	<li style="margin: 0px 0px 6px\; font-family: inherit\;">Keep Ohio&rsquo\;s work force healthy and productive.</li>\n	<li style="margin: 0px 0px 6px\; font-family: inherit\;">Facts about our exhibitors</li>\n</ul>\n\n<div style="margin: 0px 0px 6px\; font-family: inherit\;"><a href="https://bwc.expoplanner.com/content/osc18/home/">https://bwc.expoplanner.com/content/osc18/home/</a></div>\n</div>\n
LOCATION:
UID:e.2893.2558
SEQUENCE:3
DTSTAMP:20260422T123911Z
URL:http://knoxchamber.smartcms.site/events/details/ohio-safety-congress-expo-2558
END:VEVENT

END:VCALENDAR
