BEGIN:VCALENDAR
VERSION:2.0
PRODID:-//ChamberMaster//Event Calendar 2.0//EN
METHOD:PUBLISH
X-PUBLISHED-TTL:P3D
REFRESH-INTERVAL:P3D
CALSCALE:GREGORIAN
BEGIN:VEVENT
DTSTART:20210310T130000Z
DTEND:20210311T220000Z
X-MICROSOFT-CDO-ALLDAYEVENT:FALSE
SUMMARY:Ohio Safety Congress & Expo 2021
DESCRIPTION:Safety Congress Registration Now Open \nRegistration is now open for the 2021 Ohio Safety Congress & Expo (OSC21)! Due to the ongoing COVID-19 pandemic\, OSC21 will be a completely online event\, including our first-ever digital expo.\n\nVisit the OSC21 website for more information and to register for the event\, which will stream live March 10-11\, 2021. Now in its 91st year\, the Ohio Safety Congress & Expo is the largest and longest-running regional occupational safety\, health and workers' compensation conference in the U.S. \n\nMore than 4.000 representatives from Ohio businesses and government are expected to attend the event to discover the strategies and tools needed for a healthy\, safe\, and productive workforce. The event offers topics on organizational behavior\, safety leadership\, emerging trends\, and mental health. Participants can visit the digital expo marketplace\, compete in a scavenger hunt\, download resources\, earn attendance credit and chat with others.\n\nRegister today\, invite your colleagues and tag us @OhioBWC #OSC21. We'll see you online for OSC21!
X-ALT-DESC;FMTTYPE=text/html:<h2 style="margin-top:0in\;margin-right:0in\;margin-bottom:7.5pt\;margin-left:0in\;background:white\;"><span style="color:#888B8D\;"><span style="font-family:tahoma\,sans-serif\;"><span style="font-size:17.5pt\;">Safety Congress Registration Now Open&nbsp\;</span></span></span></h2>\n<span style="color:#444444\;"><span style="font-family:helvetica\,sans-serif\;"><span style="font-size:10.5pt\;">Registration is now open for the 2021 Ohio Safety Congress &amp\; Expo (OSC21)! Due to the ongoing COVID-19 pandemic\, OSC21 will be a completely online event\, including our first-ever digital expo.</span></span></span><br />\n<span style="color:#444444\;"><span style="font-family:helvetica\,sans-serif\;"><span style="font-size:10.5pt\;">Visit the&nbsp\;<a href="https://www.ohiosafetycongress.com/index.cfm"><span style="color:#0077C8\;">OSC21 website</span></a>&nbsp\;for more information and to register for the event\, which will stream live March 10-11\, 2021. Now in its 91</span></span></span><sup><span style="color:#444444\;"><span style="font-family:helvetica\,sans-serif\;"><span style="font-size:8.0pt\;">st</span></span></span></sup><span style="color:#444444\;"><span style="font-family:helvetica\,sans-serif\;"><span style="font-size:10.5pt\;">&nbsp\;year\, the Ohio Safety Congress &amp\; Expo is the largest and longest-running regional occupational safety\, health and workers&rsquo\; compensation conference in the U.S. </span></span></span><br />\n<span style="color:#444444\;"><span style="font-family:helvetica\,sans-serif\;"><span style="font-size:10.5pt\;">More than 4.000 representatives from Ohio businesses and government are expected to attend the event to discover the strategies and tools needed for a healthy\, safe\, and productive workforce. The event offers topics on organizational behavior\, safety leadership\, emerging trends\, and mental health. Participants can visit the digital expo marketplace\, compete in a scavenger hunt\, download resources\, earn attendance credit and chat with others.</span></span></span><br />\n<span style="color:#444444\;"><span style="font-family:helvetica\,sans-serif\;"><span style="font-size:10.5pt\;">Register today\, invite your colleagues and tag us <a href="https://twitter.com/ohiobwc">@OhioBWC</a> #OSC21. We&rsquo\;ll see you online for OSC21!</span></span></span>
LOCATION:Online: visit the OSC21 website for more information and to register for the event
UID:e.2893.4825
SEQUENCE:3
DTSTAMP:20260420T005413Z
URL:http://knoxchamber.smartcms.site/events/details/ohio-safety-congress-expo-2021-4825
END:VEVENT

END:VCALENDAR
