BEGIN:VCALENDAR
VERSION:2.0
PRODID:-//ChamberMaster//Event Calendar 2.0//EN
METHOD:PUBLISH
X-PUBLISHED-TTL:P3D
REFRESH-INTERVAL:P3D
CALSCALE:GREGORIAN
BEGIN:VEVENT
DTSTART;VALUE=DATE:20210524
DTEND;VALUE=DATE:20210525
TRANSP:TRANSPARENT
X-MICROSOFT-CDO-ALLDAYEVENT:TRUE
SUMMARY:Ohio District 5 Area Agency on Aging Senior Spring Extravaganza
DESCRIPTION:The 2021 Senior Spring Extravaganza will be held at the Richland County Fairgrounds on May 24th\, from 10:00 a.m. to 2:00 p.m.\n\nTickets are free and must be presented the day of the event. \n\nCall for your ticket today at (567) 247-6487.\n\n \n\nDue to COVID-19 restrictions this year\, we will be celebrating our seniors with a drive-thru festival!  Seniors will enjoy the event from their cars.  All sponsors will be set up along a driving route through the fairground.  Included at this event will be live entertainment from local singing group\, EKG.  There will also be door prizes\, bingo\, and a free lunch for all attending.\n\n\n\nFor sponsorship information\, email KHAGERMAN@AAA5OHIO.ORG
X-ALT-DESC;FMTTYPE=text/html:<h2 style="box-sizing: border-box\; margin-top: 0px\; margin-bottom: 0.5rem\; font-weight: 600\; color: rgb(0\, 0\, 0)\; font-size: 1.75rem\; text-align: center\; font-family: &quot\;Source Sans Pro&quot\;\, sans-serif !important\;"><span style="box-sizing: border-box\;"><span style="box-sizing: border-box\; font-weight: bolder\;">The 2021 Senior Spring Extravaganza will be held at the Richland County Fairgrounds&nbsp\;</span><span style="box-sizing: border-box\; font-weight: bolder\;">on May 24th\, from 10:00 a.m. to 2:00 p.m.</span></span></h2>\n\n<h2 style="box-sizing: border-box\; margin-top: 0px\; margin-bottom: 0.5rem\; font-weight: 600\; color: rgb(0\, 0\, 0)\; font-size: 1.75rem\; text-align: center\; font-family: &quot\;Source Sans Pro&quot\;\, sans-serif !important\;"><span style="box-sizing: border-box\;"><span style="box-sizing: border-box\; font-weight: bolder\;">Tickets are free and must be presented the day of the event.&nbsp\;</span></span></h2>\n\n<h2 style="box-sizing: border-box\; margin-top: 0px\; margin-bottom: 0.5rem\; font-weight: 600\; color: rgb(0\, 0\, 0)\; font-size: 1.75rem\; text-align: center\; font-family: &quot\;Source Sans Pro&quot\;\, sans-serif !important\;"><span style="box-sizing: border-box\;"><span style="box-sizing: border-box\; font-weight: bolder\;">Call for your ticket today at (567) 247-6487.</span></span></h2>\n\n<p style="box-sizing: border-box\; margin-top: 0px\; margin-bottom: 1rem\; color: rgb(0\, 0\, 0)\; font-family: Lato\, sans-serif\; font-size: 16px\;">&nbsp\;</p>\n\n<p style="box-sizing: border-box\; margin-top: 0px\; margin-bottom: 1rem\; color: rgb(0\, 0\, 0)\; font-family: Lato\, sans-serif\; font-size: 16px\;">Due to COVID-19 restrictions this year\, we will be celebrating our seniors with a drive-thru festival!&nbsp\; Seniors will enjoy the event from their cars.&nbsp\; All sponsors will be set up along a driving route through the fairground.&nbsp\; Included at this event will be live entertainment from local singing group\, EKG.&nbsp\; There will also be door prizes\, bingo\, and a free lunch for all attending.<br />\n<br />\nFor sponsorship information\, <a href="mailto:KHAGERMAN@AAA5OHIO.ORG">email&nbsp\;<span class="fontstyle0">KHAGERMAN@AAA5OHIO.ORG</span></a></p>\n
LOCATION:Richland County Fairgrounds
UID:e.2893.4878
SEQUENCE:3
DTSTAMP:20260419T211828Z
URL:http://knoxchamber.smartcms.site/events/details/ohio-district-5-area-agency-on-aging-senior-spring-extravaganza-4878
END:VEVENT

END:VCALENDAR
