BEGIN:VCALENDAR
VERSION:2.0
PRODID:-//ChamberMaster//Event Calendar 2.0//EN
METHOD:PUBLISH
X-PUBLISHED-TTL:P3D
REFRESH-INTERVAL:P3D
CALSCALE:GREGORIAN
BEGIN:VEVENT
DTSTART:20180418T193000Z
DTEND:20180418T230000Z
X-MICROSOFT-CDO-ALLDAYEVENT:FALSE
SUMMARY:Ohio Chamber of Commerce Annual Meeting
DESCRIPTION:Ohio Chamber of Commerce Annual Meeting & Legislative Reception\n\nApril 18\, 2018\n\nKeynote Speaker: OSU Football Coach Urban Meyer\n\n\n\n$50 per person
X-ALT-DESC;FMTTYPE=text/html:Ohio Chamber of Commerce Annual Meeting &amp\; Legislative Reception<br />\nApril 18\, 2018<br />\nKeynote Speaker: OSU Football Coach Urban Meyer<br />\n<br />\n$50 per person<br />\n&nbsp\;
LOCATION:Sheraton Hotel\, Second Floor 75 E. State Street\, Columbus
UID:e.2893.2630
SEQUENCE:3
DTSTAMP:20260422T105901Z
URL:http://knoxchamber.smartcms.site/events/details/ohio-chamber-of-commerce-annual-meeting-2630
END:VEVENT

END:VCALENDAR
