BEGIN:VCALENDAR
VERSION:2.0
PRODID:-//ChamberMaster//Event Calendar 2.0//EN
METHOD:PUBLISH
X-PUBLISHED-TTL:P3D
REFRESH-INTERVAL:P3D
CALSCALE:GREGORIAN
BEGIN:VEVENT
DTSTART:20170502T193000Z
DTEND:20170502T230000Z
X-MICROSOFT-CDO-ALLDAYEVENT:FALSE
SUMMARY:Ohio Chamber of Commerce Annual Meeting
DESCRIPTION:Held in the spring every year\, the Annual Meeting and Legislative Reception brings together members of the Ohio General Assembly and many of our most active business leaders. Along with guest speakers\, this event features a legislative reception which provides the ideal environment for building political contacts and networking.\n\n \n\nMay 2\, 2017  3:30 pm - 7:00 pm\n\n \n\nAgenda\n\n \n\n1:00 pm  Chamber Day at the Capital\, Downtown Sheraton (for Local Chamber of Commerce and their guests only)\n\n\n\n3:30 pm  Welcome & Introduction\, Larry Kidd\, Chairman of the Board\n\n\n\n4:00 pm  Keynote Address\, Lou Holtz\n\n\n\n4:45 pm  Recognition & Awards\, Rich Thompson\, Director of Political Programs\n\n\n\n5:30 pm  Reception (Appetizers & Open Bar)
X-ALT-DESC;FMTTYPE=text/html:<p style="box-sizing: border-box\; -webkit-font-smoothing: antialiased\; margin: 0px 0px -5px\; color: rgb(122\, 104\, 85)\; font-family: Proxima-Nova\, &quot\;Helvetica Neue&quot\;\, Helvetica\, Arial\, sans-serif\; font-size: 14px\;"><span style="color:#000000\;"><span style="font-size:12px\;"><span style="box-sizing: border-box\; -webkit-font-smoothing: antialiased\; font-family: georgia\, palatino\;">Held in the spring every year\, the&nbsp\;Annual Meeting and Legislative Reception brings together members of the Ohio General Assembly and many of our most active business leaders. Along with guest speakers\, this event features a legislative reception which provides the ideal environment for building political contacts and networking.</span></span></span></p>\n\n<p style="box-sizing: border-box\; -webkit-font-smoothing: antialiased\; margin: 0px 0px -5px\; color: rgb(122\, 104\, 85)\; font-family: Proxima-Nova\, &quot\;Helvetica Neue&quot\;\, Helvetica\, Arial\, sans-serif\; font-size: 14px\;"><span style="color:#000000\;"><span style="font-size:12px\;"><span style="box-sizing: border-box\; -webkit-font-smoothing: antialiased\; font-family: georgia\, palatino\;">&nbsp\;</span></span></span></p>\n\n<p style="box-sizing: border-box\; -webkit-font-smoothing: antialiased\; margin: 0px 0px -5px\; color: rgb(122\, 104\, 85)\; font-family: Proxima-Nova\, &quot\;Helvetica Neue&quot\;\, Helvetica\, Arial\, sans-serif\; font-size: 14px\;"><span style="color:#000000\;"><span style="font-size:12px\;"><span style="box-sizing: border-box\; -webkit-font-smoothing: antialiased\; font-family: georgia\, palatino\;"><span style="box-sizing: border-box\; -webkit-font-smoothing: antialiased\; font-weight: 600\;"><span style="box-sizing: border-box\; -webkit-font-smoothing: antialiased\;">May 2\, 2017 &nbsp\;3:30 pm - 7:00 pm</span></span></span></span></span></p>\n\n<p style="box-sizing: border-box\; -webkit-font-smoothing: antialiased\; margin: 0px 0px -5px\; color: rgb(122\, 104\, 85)\; font-family: Proxima-Nova\, &quot\;Helvetica Neue&quot\;\, Helvetica\, Arial\, sans-serif\; font-size: 14px\;">&nbsp\;</p>\n\n<p style="box-sizing: border-box\; -webkit-font-smoothing: antialiased\; margin: 0px 0px -5px\; color: rgb(122\, 104\, 85)\; font-family: Proxima-Nova\, &quot\;Helvetica Neue&quot\;\, Helvetica\, Arial\, sans-serif\; font-size: 14px\;"><span style="color:#000000\;"><span style="font-size:12px\;"><span style="box-sizing: border-box\; -webkit-font-smoothing: antialiased\; font-family: georgia\, palatino\;"><span style="box-sizing: border-box\; -webkit-font-smoothing: antialiased\; font-weight: 600\;"><span style="box-sizing: border-box\; -webkit-font-smoothing: antialiased\;">Agenda</span></span></span></span></span></p>\n\n<p style="box-sizing: border-box\; -webkit-font-smoothing: antialiased\; margin: 0px 0px -5px\; color: rgb(122\, 104\, 85)\; font-family: Proxima-Nova\, &quot\;Helvetica Neue&quot\;\, Helvetica\, Arial\, sans-serif\; font-size: 14px\;">&nbsp\;</p>\n\n<p style="box-sizing: border-box\; -webkit-font-smoothing: antialiased\; margin: 0px 0px -5px\; color: rgb(122\, 104\, 85)\; font-family: Proxima-Nova\, &quot\;Helvetica Neue&quot\;\, Helvetica\, Arial\, sans-serif\; font-size: 14px\;"><span style="color:#000000\;"><span style="font-size:12px\;"><span style="box-sizing: border-box\; -webkit-font-smoothing: antialiased\;"><span style="box-sizing: border-box\; -webkit-font-smoothing: antialiased\; font-weight: 600\;"><span style="box-sizing: border-box\; -webkit-font-smoothing: antialiased\; font-family: georgia\, palatino\;"><span style="box-sizing: border-box\; -webkit-font-smoothing: antialiased\;">1:00 pm &nbsp\;Chamber Day at the Capital\, Downtown Sheraton (for Local Chamber of Commerce and their guests only)</span><br style="box-sizing: border-box\; -webkit-font-smoothing: antialiased\;" />\n<br style="box-sizing: border-box\; -webkit-font-smoothing: antialiased\;" />\n<span style="box-sizing: border-box\; -webkit-font-smoothing: antialiased\;">3:30 pm &nbsp\;Welcome &amp\; Introduction\, Larry Kidd\, Chairman of the Board</span></span></span></span></span></span></p>\n\n<p style="box-sizing: border-box\; -webkit-font-smoothing: antialiased\; margin: 0px 0px -5px\; color: rgb(122\, 104\, 85)\; font-family: Proxima-Nova\, &quot\;Helvetica Neue&quot\;\, Helvetica\, Arial\, sans-serif\; font-size: 14px\;"><br style="box-sizing: border-box\; -webkit-font-smoothing: antialiased\;" />\n<span style="color:#000000\;"><span style="font-size:12px\;"><span style="box-sizing: border-box\; -webkit-font-smoothing: antialiased\; font-family: georgia\, palatino\;"><span style="box-sizing: border-box\; -webkit-font-smoothing: antialiased\; font-weight: 600\;"><span style="box-sizing: border-box\; -webkit-font-smoothing: antialiased\;">4:00 pm &nbsp\;Keynote Address\, Lou Holtz</span></span></span></span></span></p>\n\n<p style="box-sizing: border-box\; -webkit-font-smoothing: antialiased\; margin: 0px 0px -5px\; color: rgb(122\, 104\, 85)\; font-family: Proxima-Nova\, &quot\;Helvetica Neue&quot\;\, Helvetica\, Arial\, sans-serif\; font-size: 14px\;"><br style="box-sizing: border-box\; -webkit-font-smoothing: antialiased\;" />\n<span style="color:#000000\;"><span style="font-size:12px\;"><span style="box-sizing: border-box\; -webkit-font-smoothing: antialiased\; font-family: georgia\, palatino\;"><span style="box-sizing: border-box\; -webkit-font-smoothing: antialiased\; font-weight: 600\;"><span style="box-sizing: border-box\; -webkit-font-smoothing: antialiased\;">4:45 pm &nbsp\;Recognition &amp\; Awards\, Rich Thompson\, Director of Political Programs</span></span></span></span></span></p>\n\n<p style="box-sizing: border-box\; -webkit-font-smoothing: antialiased\; margin: 0px 0px -5px\; color: rgb(122\, 104\, 85)\; font-family: Proxima-Nova\, &quot\;Helvetica Neue&quot\;\, Helvetica\, Arial\, sans-serif\; font-size: 14px\;"><br style="box-sizing: border-box\; -webkit-font-smoothing: antialiased\;" />\n<span style="color:#000000\;"><span style="font-size:12px\;"><span style="box-sizing: border-box\; -webkit-font-smoothing: antialiased\; font-family: georgia\, palatino\;"><span style="box-sizing: border-box\; -webkit-font-smoothing: antialiased\; font-weight: 600\;"><span style="box-sizing: border-box\; -webkit-font-smoothing: antialiased\;">5:30 pm &nbsp\;Reception (Appetizers &amp\; Open Bar)</span></span></span></span></span></p>\n
LOCATION:
UID:e.2893.1316
SEQUENCE:3
DTSTAMP:20260423T075626Z
URL:http://knoxchamber.smartcms.site/events/details/ohio-chamber-of-commerce-annual-meeting-1316
END:VEVENT

END:VCALENDAR
