BEGIN:VCALENDAR
VERSION:2.0
PRODID:-//ChamberMaster//Event Calendar 2.0//EN
METHOD:PUBLISH
X-PUBLISHED-TTL:P3D
REFRESH-INTERVAL:P3D
CALSCALE:GREGORIAN
BEGIN:VEVENT
DTSTART:20191020T213000Z
DTEND:20191021T000000Z
X-MICROSOFT-CDO-ALLDAYEVENT:FALSE
SUMMARY:Octoberfest @ SBC
DESCRIPTION:Chef Erin of Stein Brewing Company has a 7 course German tapas serving style meal prepared along with Brewmaster Shipp's 7 great Fall beers to be paired with the courses.  Various beer reps will be in attendance to talk about the beers as well as insight from both Chef Erin and Shipp.  Live Polka Music will also be played.  Space is limited so reserve your seats today with the link below. \n\n\n\nhttps://www.steinbrewco.com/store/event/octoberfest-meal-beer-and-music-sbc-style/
X-ALT-DESC;FMTTYPE=text/html:Chef Erin of Stein Brewing Company has a 7 course German tapas serving style meal prepared along with Brewmaster Shipp&#39\;s 7 great Fall beers to be paired with the courses.&nbsp\; Various beer reps will be in attendance to talk about the beers as well as insight from both Chef Erin and Shipp.&nbsp\; Live Polka Music will also be played.&nbsp\; Space is limited so reserve your seats today with the link below.&nbsp\;<br />\n<br />\n<a href="https://www.steinbrewco.com/store/event/octoberfest-meal-beer-and-music-sbc-style/">https://www.steinbrewco.com/store/event/octoberfest-meal-beer-and-music-sbc-style/</a>
LOCATION:Stein Brewing Company 109 South Main Street\, Mount Vernon
UID:e.2893.4635
SEQUENCE:3
DTSTAMP:20260421T040838Z
URL:http://knoxchamber.smartcms.site/events/details/octoberfest-sbc-4635
END:VEVENT

END:VCALENDAR
