BEGIN:VCALENDAR
VERSION:2.0
PRODID:-//ChamberMaster//Event Calendar 2.0//EN
METHOD:PUBLISH
X-PUBLISHED-TTL:P3D
REFRESH-INTERVAL:P3D
CALSCALE:GREGORIAN
BEGIN:VEVENT
DTSTART:20170427T140000Z
DTEND:20170428T033000Z
X-MICROSOFT-CDO-ALLDAYEVENT:FALSE
SUMMARY:Oaks & Acorns
DESCRIPTION:Thursday mornings\, April 20 - May 25\n\nThis new program is designed for caregivers (moms\, dads\, grandparents\, aunts\, uncles\, etc.) with children ages 5 and younger.  Caregivers and children will spend time together outside experiencing guided nature play\, outdoor investigations\, and hands-on discoveries.  We will provide caregivers with ideas to safely and comfortably spend time outside while encouraging creativity\, curiosity\, and imaginative play.  Programs are scheduled for April 20\, 27\, May 4\, 11\, 18 and 25.  Programs begin at 10:00am and end by 11:30.  \n\nSpace is limited!  Call now to register.  Payment due (cash or check) by April 17. \n\nTo register for the entire series (all 6 programs):   Members - $20     Non-members - $30\n\nTo register for select dates:  Members - $5 per day         Non-members - $10 per day
X-ALT-DESC;FMTTYPE=text/html:<strong><span style="font-family:garamond\,serif\;"><span style="font-size:13.5pt\;">Thursday mornings\, April 20 - May 25</span></span></strong><br />\n<span style="font-family:garamond\,serif\;">This new program is designed for caregivers (moms\, dads\, grandparents\, aunts\, uncles\, etc.) with children ages 5 and younger.&nbsp\; Caregivers and children will spend time together outside experiencing guided nature play\, outdoor investigations\, and hands-on discoveries.&nbsp\; We will provide caregivers with ideas to safely and comfortably spend time outside while encouraging creativity\, curiosity\, and imaginative play.&nbsp\; Programs are scheduled for April 20\, 27\, May 4\, 11\, 18 and 25.&nbsp\; Programs begin at 10:00am and end by 11:30.&nbsp\;&nbsp\;</span><br />\n<strong><span style="color:red\;"><span style="font-family:garamond\,serif\;">Space is limited!&nbsp\; Call now to register.&nbsp\;&nbsp\;</span></span></strong><span style="font-family:garamond\,serif\;">Payment due (cash or check) by April 17.&nbsp\;</span><br />\n<span style="font-family:garamond\,serif\;">To register for the entire series (all 6 programs):&nbsp\;&nbsp\; Members - $20&nbsp\;&nbsp\;&nbsp\;&nbsp\; Non-members - $30</span><br />\n<span style="font-family:garamond\,serif\;">To register for select dates:&nbsp\; Members - $5 per day &nbsp\; &nbsp\; &nbsp\; &nbsp\; Non-members - $10 per day</span>
LOCATION:
UID:e.2893.1346
SEQUENCE:3
DTSTAMP:20260423T093615Z
URL:http://knoxchamber.smartcms.site/events/details/oaks-acorns-04-27-2017-1346
END:VEVENT

END:VCALENDAR
