BEGIN:VCALENDAR
VERSION:2.0
PRODID:-//ChamberMaster//Event Calendar 2.0//EN
METHOD:PUBLISH
X-PUBLISHED-TTL:P3D
REFRESH-INTERVAL:P3D
CALSCALE:GREGORIAN
BEGIN:VEVENT
DTSTART:20180211T000000Z
DTEND:20180211T030000Z
X-MICROSOFT-CDO-ALLDAYEVENT:FALSE
SUMMARY:Nunsense The Musical
DESCRIPTION:Click the link below for more information or to make reservations.\n\nhttps://tickets.vendini.com/ticket-software.html?t=tix&w=37ff1534853a3f13d87088aa60c47013&utm_source=Alcove+Mailing+List&utm_campaign=a4c9801991-EMAIL_CAMPAIGN_2017_04_04&utm_medium=email&utm_term=0_7ec0322ef6-a4c9801991-298669217&vqitq=a607f745-3156-4195-ba3e-68570f7ddf33&vqitp=ba491fb9-9896-4b23-8976-36991b9c192b&vqitts=1516729332&vqitc=vendini&vqite=itl&vqitrt=Safetynet&vqith=d54df7a94b43c44aee7daff83ff98c14
X-ALT-DESC;FMTTYPE=text/html:Click the link below for more information or to make reservations.<br>\n<a href="https://tickets.vendini.com/ticket-software.html?t=tix&amp\;w=37ff1534853a3f13d87088aa60c47013&amp\;utm_source=Alcove+Mailing+List&amp\;utm_campaign=a4c9801991-EMAIL_CAMPAIGN_2017_04_04&amp\;utm_medium=email&amp\;utm_term=0_7ec0322ef6-a4c9801991-298669217&amp\;vqitq=a607f745-3156-4195-ba3e-68570f7ddf33&amp\;vqitp=ba491fb9-9896-4b23-8976-36991b9c192b&amp\;vqitts=1516729332&amp\;vqitc=vendini&amp\;vqite=itl&amp\;vqitrt=Safetynet&amp\;vqith=d54df7a94b43c44aee7daff83ff98c14">https://tickets.vendini.com/ticket-software.html?t=tix&amp\;w=37ff1534853a3f13d87088aa60c47013&amp\;utm_source=Alcove+Mailing+List&amp\;utm_campaign=a4c9801991-EMAIL_CAMPAIGN_2017_04_04&amp\;utm_medium=email&amp\;utm_term=0_7ec0322ef6-a4c9801991-298669217&amp\;vqitq=a607f745-3156-4195-ba3e-68570f7ddf33&amp\;vqitp=ba491fb9-9896-4b23-8976-36991b9c192b&amp\;vqitts=1516729332&amp\;vqitc=vendini&amp\;vqite=itl&amp\;vqitrt=Safetynet&amp\;vqith=d54df7a94b43c44aee7daff83ff98c14</a>
LOCATION:
UID:e.2893.2580
SEQUENCE:3
DTSTAMP:20260422T141937Z
URL:http://knoxchamber.smartcms.site/events/details/nunsense-the-musical-02-10-2018-2580
END:VEVENT

END:VCALENDAR
