BEGIN:VCALENDAR
VERSION:2.0
PRODID:-//ChamberMaster//Event Calendar 2.0//EN
METHOD:PUBLISH
X-PUBLISHED-TTL:P3D
REFRESH-INTERVAL:P3D
CALSCALE:GREGORIAN
BEGIN:VEVENT
DTSTART:20180915T170000Z
DTEND:20180915T200000Z
X-MICROSOFT-CDO-ALLDAYEVENT:FALSE
SUMMARY:"Not Wedding\, Mock Wedding" Open House
DESCRIPTION:Getting Married or know someone who is? Experience a Wedding at Bloomfield Meadows during our Open House Sept 15 2018. Ceremony starts at 1pm. Meet our vendors and learn what they need from you to make your vision a reality! RSVP to Lisa @ 614-354-8468 or Bloom@bloomfieldmeadows.com
X-ALT-DESC;FMTTYPE=text/html:Getting Married or know someone who is? Experience a Wedding at Bloomfield Meadows during our Open House Sept 15 2018. Ceremony starts at 1pm. Meet our vendors and learn what they need from you to make your vision a reality! RSVP to Lisa @ 614-354-8468 or Bloom@bloomfieldmeadows.com
LOCATION:Bloomfield Meadows 650 State Route 314 Centerburg\, Ohio 43011
UID:e.2893.3785
SEQUENCE:3
DTSTAMP:20260422T042512Z
URL:http://knoxchamber.smartcms.site/events/details/not-wedding-mock-wedding-open-house-3785
END:VEVENT

END:VCALENDAR
