BEGIN:VCALENDAR
VERSION:2.0
PRODID:-//ChamberMaster//Event Calendar 2.0//EN
METHOD:PUBLISH
X-PUBLISHED-TTL:P3D
REFRESH-INTERVAL:P3D
CALSCALE:GREGORIAN
BEGIN:VEVENT
DTSTART:20190427T233000Z
DTEND:20190428T020000Z
X-MICROSOFT-CDO-ALLDAYEVENT:FALSE
SUMMARY:Ninth Annual Wiester Benefit Concert
DESCRIPTION:Columbus Jazz vocalist Rachel Sepulveda will take The Woodward Opera House stage Saturday\, April 27\, with Vaughn Wiester's Famous Jazz Orchestra for the ninth annual scholarship benefit concert. Admission to the 7:30 p.m. concert is free to the public on a first-come basis until capacity is reached. Reserved seating is available in advance to scholarship fund patrons and corporate sponsors.\n\n \n\nVaughn Wiester brings his 21-piece ensemble to his hometown for what has become one of the most anticipated annual concert dates of the year in Mount Vernon. Making her second Mount Vernon appearance as featured vocalist with the Famous Jazz Orchestra will be Rachel Sepulveda\, whose jazz talents extend beyond singing to arranging and conducting. The Knox County Foundation is collaborating with the Community Concerts Association of Knox County and Knox Partnership for Arts and Culture to present this evening of free big band music to the Knox County community\, and to raise donors for the Foundation's music scholarship named in honor of Mount Vernon native and renowned bandmaster Vaughn Wiester.\n\n \n\nThe Vaughn Wiester Music Scholarship will be awarded for the ninth time this spring to an aspiring instrumentalist or vocalist who is a graduating high school senior residing in Knox County. Funds for the scholarship are being raised through the solicitation of individual patrons and corporate sponsors\, and through voluntary contributions in any amount that will be invited from audience members. \n\n \n\nDue to ongoing renovations at the Knox County Memorial Theater\, this annual event is being staged at The Woodward where seating capacity is less than half that of the Memorial Theater. Those wishing to secure reserved seating may contact the Knox County Foundation at 740-392-3270 during regular business hours.\n\n \n\nFor more information about the Knox County Foundation or the Vaughn Wiester Music Scholarship\, please visit www.mvkcfoundation.org.
X-ALT-DESC;FMTTYPE=text/html:<span style="font-family:arial\,sans-serif\;">Columbus Jazz vocalist Rachel Sepulveda will take The Woodward Opera House stage Saturday\, April 27\, with Vaughn Wiester&rsquo\;s Famous Jazz Orchestra for the ninth annual scholarship benefit concert. Admission to the 7:30 p.m. concert is free to the public on a first-come basis until capacity is reached. Reserved seating is available in advance to scholarship fund patrons and corporate sponsors.</span><br />\n&nbsp\;<br />\n<span style="font-family:arial\,sans-serif\;">Vaughn Wiester brings his 21-piece ensemble to his hometown for what has become one of the most anticipated annual concert dates of the year in Mount Vernon. Making her second Mount Vernon appearance as featured vocalist with the Famous Jazz Orchestra will be Rachel Sepulveda\, whose jazz talents extend beyond singing to arranging and conducting. The Knox County Foundation is collaborating with the Community Concerts Association of Knox County and Knox Partnership for Arts and Culture to present this evening of free big band music to the Knox County community\, and to raise donors for the Foundation&rsquo\;s music scholarship named in honor of Mount Vernon native and renowned bandmaster Vaughn Wiester.</span><br />\n&nbsp\;<br />\n<span style="font-family:arial\,sans-serif\;">The Vaughn Wiester Music Scholarship will be awarded for the ninth time this spring to an aspiring instrumentalist or vocalist who is a graduating high school senior residing in Knox County. Funds for the scholarship are being raised through the solicitation of individual patrons and corporate sponsors\, and through voluntary contributions in any amount that will be invited from audience members. </span><br />\n&nbsp\;<br />\n<span style="font-family:arial\,sans-serif\;">Due to ongoing renovations at the Knox County Memorial Theater\, this annual event is being staged at The Woodward where seating capacity is less than half that of the Memorial Theater. Those wishing to secure reserved seating may contact the Knox County Foundation at 740-392-3270 during regular business hours.</span><br />\n&nbsp\;<br />\n<span style="font-family:arial\,sans-serif\;">For more information about the Knox County Foundation or the Vaughn Wiester Music Scholarship\, please visit <a href="http://www.mvkcfoundation.org">www.mvkcfoundation.org</a>. </span><br />\n&nbsp\;
LOCATION:Woodward Opera House\, 107 South Main Street\, Mount Vernon
UID:e.2893.4289
SEQUENCE:3
DTSTAMP:20260421T164844Z
URL:http://knoxchamber.smartcms.site/events/details/ninth-annual-wiester-benefit-concert-4289
END:VEVENT

END:VCALENDAR
