BEGIN:VCALENDAR
VERSION:2.0
PRODID:-//ChamberMaster//Event Calendar 2.0//EN
METHOD:PUBLISH
X-PUBLISHED-TTL:P3D
REFRESH-INTERVAL:P3D
CALSCALE:GREGORIAN
BEGIN:VEVENT
DTSTART:20170824T120000Z
DTEND:20170824T203000Z
X-MICROSOFT-CDO-ALLDAYEVENT:FALSE
SUMMARY:Ninth Annual Inclusion Conference
DESCRIPTION:Every year GCP's Commission on Economic Inclusion hosts an annual conference to focus on best-practices in the field of diversity and inclusion. A year ago\, the Commission on Economic Inclusion brought Harvard professor Mahzarin Banaji to Cleveland. She effectively demonstrated how even the most well-intentioned people unwittingly allow unconscious thoughts and feelings to influence apparently objective decisions. This year\, at the Commission's ninth annual Inclusion Conference on August 24th\, four experts will continue that conversation with a deeper dive into the concept of bias\, specifically as it relates to attracting and selecting top talent for your organization.
X-ALT-DESC;FMTTYPE=text/html:<span style="color: rgb(0\, 0\, 0)\; font-family: Georgia\, &quot\;Times New Roman&quot\;\, Times\, serif\; font-size: 16px\; letter-spacing: 0.5px\; text-align: center\;">Every year GCP&rsquo\;s Commission on Economic Inclusion hosts an annual conference to focus on best-practices in the field of diversity and inclusion.</span><span _mce_style="font-size: 12pt\;" style="color: rgb(0\, 0\, 0)\; font-family: Georgia\, &quot\;Times New Roman&quot\;\, Times\, serif\; font-size: 12pt\; letter-spacing: 0.5px\; text-align: center\;">&nbsp\;A year ago\, the Commission on Economic Inclusion brought Harvard professor Mahzarin Banaji to Cleveland. She effectively demonstrated how even the most well-intentioned people unwittingly allow unconscious thoughts and feelings to influence apparently objective decisions. This year\, at the Commission&rsquo\;s ninth annual Inclusion Conference on August 24th\, four experts will continue that conversation with a deeper dive into the concept of bias\, specifically as it relates to attracting and selecting top talent for your organization.&nbsp\;</span>
LOCATION:
UID:e.2893.1453
SEQUENCE:3
DTSTAMP:20260423T005852Z
URL:http://knoxchamber.smartcms.site/events/details/ninth-annual-inclusion-conference-1453
END:VEVENT

END:VCALENDAR
