BEGIN:VCALENDAR
VERSION:2.0
PRODID:-//ChamberMaster//Event Calendar 2.0//EN
METHOD:PUBLISH
X-PUBLISHED-TTL:P3D
REFRESH-INTERVAL:P3D
CALSCALE:GREGORIAN
BEGIN:VEVENT
DTSTART;VALUE=DATE:20170810
DTEND;VALUE=DATE:20170811
TRANSP:TRANSPARENT
X-MICROSOFT-CDO-ALLDAYEVENT:TRUE
SUMMARY:New Educators Breakfast
DESCRIPTION:Each year the Knox County Chamber of Commerce welcomes new educators to Knox County by hosting a breakfast.  New and veteran educators are welcome to attend.  We encourage the community and business owners to attend as well to show support for the positive influences educators' have on our youth.\n\n\n\nNew educators' are guests of the Chamber.\n\nVeteran educators' and community members $15/person.\n\n\n\nClick here to register online.\n\n\n\nThank you to our corporate sponsor Kokosing Construction Company.
X-ALT-DESC;FMTTYPE=text/html:<span style="font-size:14px\;"><span style="font-family:verdana\;"><span style="color: rgb(91\, 91\, 91)\;">Each year the Knox County Chamber of Commerce welcomes new educators to Knox County by hosting a breakfast.&nbsp\; New and veteran educators are welcome to attend. &nbsp\;We encourage the community and business owners to attend as well to show support for the positive influences educators&#39\; have on our youth.</span><br />\n<br />\nNew educators&#39\; are guests of the Chamber.<br />\nVeteran educators&#39\; and community members $15/person.<br />\n<br />\n<a href="http://events.constantcontact.com/register/event?llr=ksoytxjab&amp\;oeidk=a07ee9szm74654f1272">Click here to register online.</a><br />\n<br />\nThank you to our corporate sponsor Kokosing Construction Company.</span></span>
LOCATION:
UID:e.2893.1313
SEQUENCE:3
DTSTAMP:20260423T004106Z
URL:http://knoxchamber.smartcms.site/events/details/new-educators-breakfast-1313
END:VEVENT

END:VCALENDAR
