BEGIN:VCALENDAR
VERSION:2.0
PRODID:-//ChamberMaster//Event Calendar 2.0//EN
METHOD:PUBLISH
X-PUBLISHED-TTL:P3D
REFRESH-INTERVAL:P3D
CALSCALE:GREGORIAN
BEGIN:VEVENT
DTSTART:20170309T224500Z
DTEND:20170310T000000Z
X-MICROSOFT-CDO-ALLDAYEVENT:FALSE
SUMMARY:New Directions Shelter Annual Fundraiser
DESCRIPTION:New Directions\, The Domestic Abuse Shelter and Rape Crisis Center of Knox County\, will hold its seventh annual fundraising dinner on Thursday\, March 9\, 2017\, at 5:45 p.m.\, in Thomas Hall at Kenyon College. This year's keynote speaker is Rene Marie\, a Grammy-nominated singer and survivor of domestic violence.\n\n\n\nWe're hoping that you will join us. A minimum $100 donation is requested for dinner. Please mail donations to:\n\n\n\nNew Directions\n\nP.O. Box 453\n\nMount Vernon\, OH 43050
X-ALT-DESC;FMTTYPE=text/html:<span style="color: rgb(75\, 79\, 86)\; font-family: Helvetica\, Arial\, sans-serif\; font-size: 14px\;">New Directions\, The Domestic Abuse Shelter and Rape Crisis Center of Knox County\, will hold its seventh annual fundraising dinner on Thursday\, March 9\, 2017\, at 5:45 p.m.\, in Thomas Hall at Kenyon College. This year&#39\;s keynote speaker is Rene Marie\, a Grammy-nominated singer and survivor of domestic violence.</span><br style="color: rgb(75\, 79\, 86)\; font-family: Helvetica\, Arial\, sans-serif\; font-size: 14px\;" />\n<br style="color: rgb(75\, 79\, 86)\; font-family: Helvetica\, Arial\, sans-serif\; font-size: 14px\;" />\n<span style="color: rgb(75\, 79\, 86)\; font-family: Helvetica\, Arial\, sans-serif\; font-size: 14px\;">We&#39\;re hoping that you will join us. A minimum $100 donation is requested for dinner. Please mail donations to:</span><br style="color: rgb(75\, 79\, 86)\; font-family: Helvetica\, Arial\, sans-serif\; font-size: 14px\;" />\n<br style="color: rgb(75\, 79\, 86)\; font-family: Helvetica\, Arial\, sans-serif\; font-size: 14px\;" />\n<span style="color: rgb(75\, 79\, 86)\; font-family: Helvetica\, Arial\, sans-serif\; font-size: 14px\;">New Directions</span><br style="color: rgb(75\, 79\, 86)\; font-family: Helvetica\, Arial\, sans-serif\; font-size: 14px\;" />\n<span style="color: rgb(75\, 79\, 86)\; font-family: Helvetica\, Arial\, sans-serif\; font-size: 14px\;">P.O. Box 453</span><br style="color: rgb(75\, 79\, 86)\; font-family: Helvetica\, Arial\, sans-serif\; font-size: 14px\;" />\n<span style="color: rgb(75\, 79\, 86)\; font-family: Helvetica\, Arial\, sans-serif\; font-size: 14px\;">Mount Vernon\, OH 43050</span><br style="color: rgb(75\, 79\, 86)\; font-family: Helvetica\, Arial\, sans-serif\; font-size: 14px\;" />\n<br style="color: rgb(75\, 79\, 86)\; font-family: Helvetica\, Arial\, sans-serif\; font-size: 14px\;" />\n&nbsp\;
LOCATION:
UID:e.2893.1286
SEQUENCE:3
DTSTAMP:20260423T112535Z
URL:http://knoxchamber.smartcms.site/events/details/new-directions-shelter-annual-fundraiser-1286
END:VEVENT

END:VCALENDAR
