BEGIN:VCALENDAR
VERSION:2.0
PRODID:-//ChamberMaster//Event Calendar 2.0//EN
METHOD:PUBLISH
X-PUBLISHED-TTL:P3D
REFRESH-INTERVAL:P3D
CALSCALE:GREGORIAN
BEGIN:VEVENT
DTSTART:20170127T170000Z
DTEND:20170127T173000Z
X-MICROSOFT-CDO-ALLDAYEVENT:FALSE
SUMMARY:New Directions - Ribbon Cutting
DESCRIPTION:Ribbon Cutting - New Directions\n\nJoin us for a Ribbon Cutting at New Directions!\n\n110 East Gambier Street\, Mount Vernon\n\nFriday\, January 27th at 12:00pm\n\n \n\nClick the link below to register:\n\nhttp://events.constantcontact.com/register/event?llr=ksoytxjab&oeidk=a07edn8602r1dc8e6fc
X-ALT-DESC;FMTTYPE=text/html:<h1 style="margin: 0px\; padding: 0px\; font-size: 26px\; color: rgb(60\, 60\, 60)\; line-height: 31px\; font-family: Arial\, Helvetica\, sans-serif\;"><span id="span_event_title">Ribbon Cutting - New Directions</span></h1>\n\n<p style="margin: 0px 0px 18px\; padding: 0px\; font-family: Arial\, Helvetica\, sans-serif\; font-size: 12px\;">Join us for a Ribbon Cutting at New Directions!<br />\n110 East Gambier Street\, Mount Vernon<br />\nFriday\, January 27th at 12:00pm<br />\n&#8203\;<br />\nClick the link below to register:<br />\nhttp://events.constantcontact.com/register/event?llr=ksoytxjab&amp\;oeidk=a07edn8602r1dc8e6fc</p>\n
LOCATION:
UID:e.2893.1242
SEQUENCE:3
DTSTAMP:20260423T145242Z
URL:http://knoxchamber.smartcms.site/events/details/new-directions-ribbon-cutting-1242
END:VEVENT

END:VCALENDAR
